Workbook

Sheet Soal
A1: DATA PERHITUNGAN TKDN BARANG
A2: MOTOR LISTRIK
A4: A. CORPORATE DATA | B4: DATA KONTRAK
B5: Nama Penyedia Barang/Jasa | F5: : PT. Molis Maju Bersama Indonesia
B6: Alamat | F6: : Jl. Gatot Subroto No 8 Jakarta
B7: Jenis Produk | F7: : Sepeda Motor Listrik
B8: Merek | F8: : MOLI
B9: Tipe Produk | F9: : G1
B10: Spesifikasi | F10: : Kapasitas Baterai Lithium 60 Volt 20 Ah
B11: Standar | F11: : -
B12: Tahun Perhitungan | F12: : 2024
B13: Kapasitas Produksi | F13: : 2.000 buah per bulan
A15: B. | B15: DATA BIAYA
C16: No | E16: Nama Barang | F16: Spesifikasi/ Kualifikasi | G16: Pemasok | H16: Negara Asal | I16: Manufaktur | J16: Jumlah pemakaian utk 1 (satu) satuan produk | K16: Satuan | L16: Harga per Satuan (Rupiah) | M16: TKDN (%) | N16: PPN
D17: A | E17: Rangka dan Body
E18: Main frame
C19: 1 | E19: THE FRONT PIPE PART | G19: Tianjin | H19: China | I19: Tianjin | J19: 1 | K19: pcs | L19: 605227.13 | M19: 0 | N19: 0.11
C20: 2 | E20: THE REAR SWING PART | G20: Tianjin | H20: China | I20: Tianjin | J20: 1 | K20: pcs | L20: 259797.12 | M20: 0 | N20: 0.11
E21: Bracket
C22: 3 | E22: FRONT LICENSE PLATE BRACKET | G22: Tianjin | H22: China | I22: Tianjin | J22: 1 | K22: pcs | L22: 168016.2 | M22: 0 | N22: 0.11
C23: 4 | E23: MOUNTING BRACKET | G23: Tianjin | H23: China | I23: Tianjin | J23: 1 | K23: pcs | L23: 168183.08 | M23: 0 | N23: 0.11
E24: Side/main stand
C25: 5 | E25: SIDE STAND PART | G25: Tianjin | H25: China | I25: Tianjin | J25: 1 | K25: pcs | L25: 180364.91 | M25: 0 | N25: 0.11
E26: Rear/front fender
C27: 6 | E27: REAR FENDER ON THE REAR SWING PART OF FRAME | G27: Tianjin | H27: China | I27: Tianjin | J27: 1 | K27: pcs | L27: 173022.44 | M27: 0 | N27: 0.11
C28: 7 | E28: FRONT REAR FENDER | G28: Tianjin | H28: China | I28: Tianjin | J28: 1 | K28: pcs | L28: 167014.96 | M28: 0 | N28: 0.11
E29: Seat Assy
C30: 8 | E30: SEAT ASSY | G30: Tianjin | H30: China | I30: Tianjin | J30: 1 | K30: pcs | L30: 272646.45 | M30: 0 | N30: 0.11
E31: Spion
C32: 9 | E32: SPION | G32: Tianjin | H32: China | I32: Tianjin | J32: 1 | K32: pcs | L32: 173022.44 | M32: 0 | N32: 0.11
E33: Stepbar
C34: 10 | E34: FOOTPLATE | G34: Tianjin | H34: China | I34: Tianjin | J34: 1 | K34: pcs | L34: 173022.44 | M34: 0 | N34: 0.11
C35: 11 | E35: COVER ON THE FOOTPLATE | G35: Tianjin | H35: China | I35: Tianjin | J35: 1 | K35: pcs | L35: 173022.44 | M35: 0 | N35: 0.11
E36: Cover Plastic Set
C37: 12 | E37: THE FRONT COVER | G37: Tianjin | H37: China | I37: Tianjin | J37: 1 | K37: pcs | L37: 182033.65 | M37: 0 | N37: 0.11
C38: 13 | E38: FRONT SHIELD | G38: Tianjin | H38: China | I38: Tianjin | J38: 1 | K38: pcs | L38: 162877.1 | M38: 0 | N38: 0.11
C39: 14 | E39: THE FIXED PLATE FOR SCREW | G39: Tianjin | H39: China | I39: Tianjin | J39: 1 | K39: pcs | L39: 163343.72 | M39: 0 | N39: 0.11
C40: 15 | E40: BOLT M6X12 | G40: Tianjin | H40: China | I40: Tianjin | J40: 1 | K40: pcs | L40: 162877.1 | M40: 0 | N40: 0.11
C41: 16 | E41: BOLT M6X16 | G41: Tianjin | H41: China | I41: Tianjin | J41: 1 | K41: pcs | L41: 169017.45 | M41: 0 | N41: 0.11
C42: 17 | E42: WASHER | G42: Tianjin | H42: China | I42: Tianjin | J42: 1 | K42: pcs | L42: 155166.87 | M42: 0 | N42: 0.11
...

Sheet REKAPITULASI
E2: SELF ASSESSMENT
B4: Rekapitulasi TKDN KBL Berbasis Baterai
B6: Perusahaan | D6: PT. Molis Maju Bersama Indonesia
B7: Alamat | D7: Jl. Gatot Subroto No 8 Jakarta
B8: Merk | D8: MOLI
B9: Jenis Kendaraan | D9: Sepeda Motor Listrik
B10: Negara Asal Merek | D10: Indonesia
B11: Tipe Produk | D11: G1
B13: No | C13: Uraian | D13: Bobot TKDN | E13: TKDN
B14: I | C14: Komponen Utama | D14: 0.5 | E14: ='I, II. Manufakturing R2-R3'!G16 -> 0.17687061
B15: II | C15: Komponen Pendukung | D15: 0.1 | E15: ='I, II. Manufakturing R2-R3'!G55 -> 0
B16: III | C16: Perakitan | D16: 0.3 | E16: ='III. Perakitan'!J23 -> 0.2625
B17: IV | C17: Pengembangan | D17: 0.1 | E17: ='IV.a. Pengembangan Aktivitas'!J21 -> 0.04
B19: TKDN KBL BERBASIS BATERAI | E19: =SUM(E14:E18) -> 0.47937061
B21: Capaian nilai TKDN diatas dinyatakan sendiri oleh :
B22: =$D$6 -> PT. Molis Maju Bersama Indonesia
B23: Seluruh dokumen yang dinyatakan dalam form TKDN dapat dipertanggungjawabkan sesuai dengan ketentuan perhitungan
B24: TKDN Kendaraan Berbasis Listrik
B26: Jakarta, dd mm yyyy
B27: Dinyatakan Oleh,
B29: Materai 10.000
B32: isi 'Nama
B33: isi ' jabatan

Sheet Form 1.1
K1: =REKAPITULASI!$E$2 -> SELF ASSESSMENT
A3: Formulir 1.1. : TKDN untuk Bahan Baku (Bahan Baku Langsung / Tidak Langsung)
A6: Penyedia Barang / Jasa | D6: =REKAPITULASI!D6 -> PT. Molis Maju Bersama Indonesia
A7: Hasil Produksi | D7: Kendaraan Bermotor Listrik Berbasis Baterai
A8: Jenis Produk | D8: =Soal!F7 -> : Sepeda Motor Listrik
A9: Spesifikasi | D9: =Soal!F10 -> : Kapasitas Baterai Lithium 60 Volt 20 Ah
A10: Standar | D10: =Soal!F11 -> : -
A12: No. | B12: Uraian | D12: Spesifikasi | E12: Satuan Bahan Baku | F12: Negara Asal | G12: Pemasok / Produsen Tingkat 2 | H12: TKDN (%) | I12: Jumlah Pemakaian untuk 1 (Satu) Satuan Produk | J12: Harga 1 (Satu) Satuan Material (Rupiah) | K12: B I A Y A
K13: (Rupiah)
K14: KDN | L14: KLN | M14: Total
A15: (1) | B15: (2) | D15: (3) | E15: (4) | F15: (5) | G15: (6) | H15: (7) | I15: (8) | J15: (9) | K15: (10)
K17: =(H17/100)*I17*J17 -> 0 | L17: =(1-(H17/100))*I17*J17 -> 0 | M17: =SUM(K17:L17) -> 0
A18: I | B18: Komponen Rangka Utama
B19: A | C19: Rangka dan Body | K19: =(H19/100)*I19*J19 -> 0 | L19: =(1-(H19/100))*I19*J19 -> 0 | M19: =SUM(K19:L19) -> 0
C20: =Soal!E18 -> Main frame | K20: =(H20/100)*I20*J20 -> 0 | L20: =(1-(H20/100))*I20*J20 -> 0 | M20: =SUM(K20:L20) -> 0
A21: =Soal!C19 -> 1 | C21: =Soal!E19 -> THE FRONT PIPE PART | E21: =Soal!K19 -> pcs | F21: =Soal!H19 -> China | G21: =Soal!I19 -> Tianjin | H21: =Soal!M18 -> 0 | I21: =Soal!J19 -> 1 | J21: =Soal!L19 -> 605227.13 | K21: =(H21/100)*I21*J21 -> 0 | L21: =(1-(H21/100))*I21*J21 -> 605227.13 | M21: =SUM(K21:L21) -> 605227.13
A22: =Soal!C20 -> 2 | C22: =Soal!E20 -> THE REAR SWING PART | E22: =Soal!K20 -> pcs | F22: =Soal!H20 -> China | G22: =Soal!I20 -> Tianjin | H22: =Soal!M19 -> 0 | I22: =Soal!J20 -> 1 | J22: =Soal!L20 -> 259797.12 | K22: =(H22/100)*I22*J22 -> 0 | L22: =(1-(H22/100))*I22*J22 -> 259797.12 | M22: =SUM(K22:L22) -> 259797.12
C23: =Soal!E21 -> Bracket | K23: =(H23/100)*I23*J23 -> 0 | L23: =(1-(H23/100))*I23*J23 -> 0 | M23: =SUM(K23:L23) -> 0
A24: =Soal!C22 -> 3 | C24: =Soal!E22 -> FRONT LICENSE PLATE BRACKET | E24: =Soal!K22 -> pcs | F24: =Soal!H22 -> China | G24: =Soal!I22 -> Tianjin | H24: =Soal!M21 -> 0 | I24: =Soal!J22 -> 1 | J24: =Soal!L22 -> 168016.2 | K24: =(H24/100)*I24*J24 -> 0 | L24: =(1-(H24/100))*I24*J24 -> 168016.2 | M24: =SUM(K24:L24) -> 168016.2
A25: =Soal!C23 -> 4 | C25: =Soal!E23 -> MOUNTING BRACKET | E25: =Soal!K23 -> pcs | F25: =Soal!H23 -> China | G25: =Soal!I23 -> Tianjin | H25: =Soal!M22 -> 0 | I25: =Soal!J23 -> 1 | J25: =Soal!L23 -> 168183.08 | K25: =(H25/100)*I25*J25 -> 0 | L25: =(1-(H25/100))*I25*J25 -> 168183.08 | M25: =SUM(K25:L25) -> 168183.08
C26: =Soal!E24 -> Side/main stand | K26: =(H26/100)*I26*J26 -> 0 | L26: =(1-(H26/100))*I26*J26 -> 0 | M26: =SUM(K26:L26) -> 0
A27: =Soal!C25 -> 5 | C27: =Soal!E25 -> SIDE STAND PART | E27: =Soal!K25 -> pcs | F27: =Soal!H25 -> China | G27: =Soal!I25 -> Tianjin | H27: =Soal!M24 -> 0 | I27: =Soal!J25 -> 1 | J27: =Soal!L25 -> 180364.91 | K27: =(H27/100)*I27*J27 -> 0 | L27: =(1-(H27/100))*I27*J27 -> 180364.91 | M27: =SUM(K27:L27) -> 180364.91
C28: =Soal!E26 -> Rear/front fender | K28: =(H28/100)*I28*J28 -> 0 | L28: =(1-(H28/100))*I28*J28 -> 0 | M28: =SUM(K28:L28) -> 0
A29: =Soal!C27 -> 6 | C29: =Soal!E27 -> REAR FENDER ON THE REAR SWING PART OF FRAME | E29: =Soal!K27 -> pcs | F29: =Soal!H27 -> China | G29: =Soal!I27 -> Tianjin | H29: =Soal!M26 -> 0 | I29: =Soal!J27 -> 1 | J29: =Soal!L27 -> 173022.44 | K29: =(H29/100)*I29*J29 -> 0 | L29: =(1-(H29/100))*I29*J29 -> 173022.44 | M29: =SUM(K29:L29) -> 173022.44
A30: =Soal!C28 -> 7 | C30: =Soal!E28 -> FRONT REAR FENDER | E30: =Soal!K28 -> pcs | F30: =Soal!H28 -> China | G30: =Soal!I28 -> Tianjin | H30: =Soal!M27 -> 0 | I30: =Soal!J28 -> 1 | J30: =Soal!L28 -> 167014.96 | K30: =(H30/100)*I30*J30 -> 0 | L30: =(1-(H30/100))*I30*J30 -> 167014.96 | M30: =SUM(K30:L30) -> 167014.96
C31: =Soal!E29 -> Seat Assy | K31: =(H31/100)*I31*J31 -> 0 | L31: =(1-(H31/100))*I31*J31 -> 0 | M31: =SUM(K31:L31) -> 0
A32: =Soal!C30 -> 8 | C32: =Soal!E30 -> SEAT ASSY | E32: =Soal!K30 -> pcs | F32: =Soal!H30 -> China | G32: =Soal!I30 -> Tianjin | H32: =Soal!M29 -> 0 | I32: =Soal!J30 -> 1 | J32: =Soal!L30 -> 272646.45 | K32: =(H32/100)*I32*J32 -> 0 | L32: =(1-(H32/100))*I32*J32 -> 272646.45 | M32: =SUM(K32:L32) -> 272646.45
C33: =Soal!E31 -> Spion | K33: =(H33/100)*I33*J33 -> 0 | L33: =(1-(H33/100))*I33*J33 -> 0 | M33: =SUM(K33:L33) -> 0
A34: =Soal!C32 -> 9 | C34: =Soal!E32 -> SPION | E34: =Soal!K32 -> pcs | F34: =Soal!H32 -> China | G34: =Soal!I32 -> Tianjin | H34: =Soal!M31 -> 0 | I34: =Soal!J32 -> 1 | J34: =Soal!L32 -> 173022.44 | K34: =(H34/100)*I34*J34 -> 0 | L34: =(1-(H34/100))*I34*J34 -> 173022.44 | M34: =SUM(K34:L34) -> 173022.44
C35: =Soal!E33 -> Stepbar | K35: =(H35/100)*I35*J35 -> 0 | L35: =(1-(H35/100))*I35*J35 -> 0 | M35: =SUM(K35:L35) -> 0
A36: =Soal!C34 -> 10 | C36: =Soal!E34 -> FOOTPLATE | E36: =Soal!K34 -> pcs | F36: =Soal!H34 -> China | G36: =Soal!I34 -> Tianjin | H36: =Soal!M33 -> 0 | I36: =Soal!J34 -> 1 | J36: =Soal!L34 -> 173022.44 | K36: =(H36/100)*I36*J36 -> 0 | L36: =(1-(H36/100))*I36*J36 -> 173022.44 | M36: =SUM(K36:L36) -> 173022.44
A37: =Soal!C35 -> 11 | C37: =Soal!E35 -> COVER ON THE FOOTPLATE | E37: =Soal!K35 -> pcs | F37: =Soal!H35 -> China | G37: =Soal!I35 -> Tianjin | H37: =Soal!M34 -> 0 | I37: =Soal!J35 -> 1 | J37: =Soal!L35 -> 173022.44 | K37: =(H37/100)*I37*J37 -> 0 | L37: =(1-(H37/100))*I37*J37 -> 173022.44 | M37: =SUM(K37:L37) -> 173022.44
C38: =Soal!E36 -> Cover Plastic Set | K38: =(H38/100)*I38*J38 -> 0 | L38: =(1-(H38/100))*I38*J38 -> 0 | M38: =SUM(K38:L38) -> 0
A39: =Soal!C37 -> 12 | C39: =Soal!E37 -> THE FRONT COVER | E39: =Soal!K37 -> pcs | F39: =Soal!H37 -> China | G39: =Soal!I37 -> Tianjin | H39: =Soal!M36 -> 0 | I39: =Soal!J37 -> 1 | J39: =Soal!L37 -> 182033.65 | K39: =(H39/100)*I39*J39 -> 0 | L39: =(1-(H39/100))*I39*J39 -> 182033.65 | M39: =SUM(K39:L39) -> 182033.65
A40: =Soal!C38 -> 13 | C40: =Soal!E38 -> FRONT SHIELD | E40: =Soal!K38 -> pcs | F40: =Soal!H38 -> China | G40: =Soal!I38 -> Tianjin | H40: =Soal!M37 -> 0 | I40: =Soal!J38 -> 1 | J40: =Soal!L38 -> 162877.1 | K40: =(H40/100)*I40*J40 -> 0 | L40: =(1-(H40/100))*I40*J40 -> 162877.1 | M40: =SUM(K40:L40) -> 162877.1
A41: =Soal!C39 -> 14 | C41: =Soal!E39 -> THE FIXED PLATE FOR SCREW | E41: =Soal!K39 -> pcs | F41: =Soal!H39 -> China | G41: =Soal!I39 -> Tianjin | H41: =Soal!M38 -> 0 | I41: =Soal!J39 -> 1 | J41: =Soal!L39 -> 163343.72 | K41: =(H41/100)*I41*J41 -> 0 | L41: =(1-(H41/100))*I41*J41 -> 163343.72 | M41: =SUM(K41:L41) -> 163343.72
A42: =Soal!C40 -> 15 | C42: =Soal!E40 -> BOLT M6X12 | E42: =Soal!K40 -> pcs | F42: =Soal!H40 -> China | G42: =Soal!I40 -> Tianjin | H42: =Soal!M39 -> 0 | I42: =Soal!J40 -> 1 | J42: =Soal!L40 -> 162877.1 | K42: =(H42/100)*I42*J42 -> 0 | L42: =(1-(H42/100))*I42*J42 -> 162877.1 | M42: =SUM(K42:L42) -> 162877.1
A43: =Soal!C41 -> 16 | C43: =Soal!E41 -> BOLT M6X16 | E43: =Soal!K41 -> pcs | F43: =Soal!H41 -> China | G43: =Soal!I41 -> Tianjin | H43: =Soal!M40 -> 0 | I43: =Soal!J41 -> 1 | J43: =Soal!L41 -> 169017.45 | K43: =(H43/100)*I43*J43 -> 0 | L43: =(1-(H43/100))*I43*J43 -> 169017.45 | M43: =SUM(K43:L43) -> 169017.45
A44: =Soal!C42 -> 17 | C44: =Soal!E42 -> WASHER | E44: =Soal!K42 -> pcs | F44: =Soal!H42 -> China | G44: =Soal!I42 -> Tianjin | H44: =Soal!M41 -> 0 | I44: =Soal!J42 -> 1 | J44: =Soal!L42 -> 155166.87 | K44: =(H44/100)*I44*J44 -> 0 | L44: =(1-(H44/100))*I44*J44 -> 155166.87 | M44: =SUM(K44:L44) -> 155166.87
C45: =Soal!E43 -> Reflex Reflector | K45: =(H45/100)*I45*J45 -> 0 | L45: =(1-(H45/100))*I45*J45 -> 0 | M45: =SUM(K45:L45) -> 0
...

Sheet I, II. Manufakturing R2-R3
I2: Self Assessment
B4: Formulir 1.1. : TKDN Untuk Manufaktur
B6: Perusahaan | F6: : | G6: ='Form 1.1'!D6 -> PT. Molis Maju Bersama Indonesia
B7: Alamat | F7: : | G7: =Soal!F6 -> : Jl. Gatot Subroto No 8 Jakarta
B8: Merk | F8: : | G8: =Soal!F8 -> : MOLI
B9: Jenis Kendaraan | F9: : | G9: =Soal!F7 -> : Sepeda Motor Listrik
B10: Negara Asal Merek | F10: : | G10: Indonesia
B11: Tipe Produk | F11: : | G11: =Soal!F9 -> : G1
B13: NO. | C13: KELOMPOK KOMPONEN | E13: BOBOT (%) | G13: TKDN | H13: PENILAIAN KDN/KLN BERDASARKAN BIAYA PRODUKSI
E14: 2020-2029 | F14: 2030-dst | H14: BIAYA PRODUKSI | I14: VERIFIKASI
I15: KDN | J15: KLN
B16: I | C16: Manufaktur Komponen Utama | E16: =E17+E45+E51 -> 0.5 | F16: 0.6 | G16: =G17+G45+G51 -> 0.17687061 | H16: =I16+J16 -> 11281933 | I16: =I17+I45+I51 -> 2577500 | J16: =J17+J45+J51 -> 8704433.4
B17: 1. | C17: Rangka dan atau body | E17: 0.05 | F17: 0.05 | G17: =(I17/H17)*E17 -> 0 | H17: =SUM(H33:H44) -> 1499364.5 | I17: =SUM(I18:I44) -> 0 | J17: =SUM(J18:J44) -> 3666659.2
D18: ='Form 1.1'!C20 -> Main frame | I18: =G18*H18 -> 0 | J18: =(100%-G18)*H18 -> 0
C19: ='Form 1.1'!A21 -> 1 | D19: ='Form 1.1'!C21 -> THE FRONT PIPE PART | G19: ='Form 1.1'!H21 -> 0 | H19: ='Form 1.1'!M21 -> 605227.13 | I19: =G19*H19 -> 0 | J19: =(100%-G19)*H19 -> 605227.13
C20: ='Form 1.1'!A22 -> 2 | D20: ='Form 1.1'!C22 -> THE REAR SWING PART | G20: ='Form 1.1'!H22 -> 0 | H20: ='Form 1.1'!M22 -> 259797.12 | I20: =G20*H20 -> 0 | J20: =(100%-G20)*H20 -> 259797.12
D21: ='Form 1.1'!C23 -> Bracket | I21: =G21*H21 -> 0 | J21: =(100%-G21)*H21 -> 0
C22: ='Form 1.1'!A24 -> 3 | D22: ='Form 1.1'!C24 -> FRONT LICENSE PLATE BRACKET | G22: ='Form 1.1'!H24 -> 0 | H22: ='Form 1.1'!M24 -> 168016.2 | I22: =G22*H22 -> 0 | J22: =(100%-G22)*H22 -> 168016.2
C23: ='Form 1.1'!A25 -> 4 | D23: ='Form 1.1'!C25 -> MOUNTING BRACKET | G23: ='Form 1.1'!H25 -> 0 | H23: ='Form 1.1'!M25 -> 168183.08 | I23: =G23*H23 -> 0 | J23: =(100%-G23)*H23 -> 168183.08
D24: ='Form 1.1'!C26 -> Side/main stand | I24: =G24*H24 -> 0 | J24: =(100%-G24)*H24 -> 0
C25: ='Form 1.1'!A27 -> 5 | D25: ='Form 1.1'!C27 -> SIDE STAND PART | G25: ='Form 1.1'!H27 -> 0 | H25: ='Form 1.1'!M27 -> 180364.91 | I25: =G25*H25 -> 0 | J25: =(100%-G25)*H25 -> 180364.91
D26: ='Form 1.1'!C28 -> Rear/front fender | I26: =G26*H26 -> 0 | J26: =(100%-G26)*H26 -> 0
C27: ='Form 1.1'!A29 -> 6 | D27: ='Form 1.1'!C29 -> REAR FENDER ON THE REAR SWING PART OF FRAME | G27: ='Form 1.1'!H29 -> 0 | H27: ='Form 1.1'!M29 -> 173022.44 | I27: =G27*H27 -> 0 | J27: =(100%-G27)*H27 -> 173022.44
C28: ='Form 1.1'!A30 -> 7 | D28: ='Form 1.1'!C30 -> FRONT REAR FENDER | G28: ='Form 1.1'!H30 -> 0 | H28: ='Form 1.1'!M30 -> 167014.96 | I28: =G28*H28 -> 0 | J28: =(100%-G28)*H28 -> 167014.96
D29: ='Form 1.1'!C31 -> Seat Assy | I29: =G29*H29 -> 0 | J29: =(100%-G29)*H29 -> 0
C30: ='Form 1.1'!A32 -> 8 | D30: ='Form 1.1'!C32 -> SEAT ASSY | G30: ='Form 1.1'!H32 -> 0 | H30: ='Form 1.1'!M32 -> 272646.45 | I30: =G30*H30 -> 0 | J30: =(100%-G30)*H30 -> 272646.45
D31: ='Form 1.1'!C33 -> Spion | I31: =G31*H31 -> 0 | J31: =(100%-G31)*H31 -> 0
C32: ='Form 1.1'!A34 -> 9 | D32: ='Form 1.1'!C34 -> SPION | G32: ='Form 1.1'!H34 -> 0 | H32: ='Form 1.1'!M34 -> 173022.44 | I32: =G32*H32 -> 0 | J32: =(100%-G32)*H32 -> 173022.44
D33: ='Form 1.1'!C35 -> Stepbar | I33: =G33*H33 -> 0 | J33: =(100%-G33)*H33 -> 0
C34: ='Form 1.1'!A36 -> 10 | D34: ='Form 1.1'!C36 -> FOOTPLATE | G34: ='Form 1.1'!H36 -> 0 | H34: ='Form 1.1'!M36 -> 173022.44 | I34: =G34*H34 -> 0 | J34: =(100%-G34)*H34 -> 173022.44
C35: ='Form 1.1'!A37 -> 11 | D35: ='Form 1.1'!C37 -> COVER ON THE FOOTPLATE | G35: ='Form 1.1'!H37 -> 0 | H35: ='Form 1.1'!M37 -> 173022.44 | I35: =G35*H35 -> 0 | J35: =(100%-G35)*H35 -> 173022.44
D36: ='Form 1.1'!C38 -> Cover Plastic Set | I36: =G36*H36 -> 0 | J36: =(100%-G36)*H36 -> 0
C37: ='Form 1.1'!A39 -> 12 | D37: ='Form 1.1'!C39 -> THE FRONT COVER | G37: ='Form 1.1'!H39 -> 0 | H37: ='Form 1.1'!M39 -> 182033.65 | I37: =G37*H37 -> 0 | J37: =(100%-G37)*H37 -> 182033.65
C38: ='Form 1.1'!A40 -> 13 | D38: ='Form 1.1'!C40 -> FRONT SHIELD | G38: ='Form 1.1'!H40 -> 0 | H38: ='Form 1.1'!M40 -> 162877.1 | I38: =G38*H38 -> 0 | J38: =(100%-G38)*H38 -> 162877.1
C39: ='Form 1.1'!A41 -> 14 | D39: ='Form 1.1'!C41 -> THE FIXED PLATE FOR SCREW | G39: ='Form 1.1'!H41 -> 0 | H39: ='Form 1.1'!M41 -> 163343.72 | I39: =G39*H39 -> 0 | J39: =(100%-G39)*H39 -> 163343.72
C40: ='Form 1.1'!A42 -> 15 | D40: ='Form 1.1'!C42 -> BOLT M6X12 | G40: ='Form 1.1'!H42 -> 0 | H40: ='Form 1.1'!M42 -> 162877.1 | I40: =G40*H40 -> 0 | J40: =(100%-G40)*H40 -> 162877.1
C41: ='Form 1.1'!A43 -> 16 | D41: ='Form 1.1'!C43 -> BOLT M6X16 | G41: ='Form 1.1'!H43 -> 0 | H41: ='Form 1.1'!M43 -> 169017.45 | I41: =G41*H41 -> 0 | J41: =(100%-G41)*H41 -> 169017.45
C42: ='Form 1.1'!A44 -> 17 | D42: ='Form 1.1'!C44 -> WASHER | G42: ='Form 1.1'!H44 -> 0 | H42: ='Form 1.1'!M44 -> 155166.87 | I42: =G42*H42 -> 0 | J42: =(100%-G42)*H42 -> 155166.87
D43: ='Form 1.1'!C45 -> Reflex Reflector | H43: ='Form 1.1'!M45 -> 0 | I43: =G43*H43 -> 0 | J43: =(100%-G43)*H43 -> 0
C44: ='Form 1.1'!A46 -> 18 | D44: ='Form 1.1'!C46 -> REFLECTOR | G44: ='Form 1.1'!H46 -> 0 | H44: ='Form 1.1'!M46 -> 158003.74 | I44: =G44*H44 -> 0 | J44: =(100%-G44)*H44 -> 158003.74
...

Sheet III. Perakitan
H2: =REKAPITULASI!$E$2 -> SELF ASSESSMENT
B4: Formulir 1.3. : TKDN Untuk Perakitan
B6: Perusahaan | E6: =REKAPITULASI!D6 -> PT. Molis Maju Bersama Indonesia
B7: Alamat | E7: =REKAPITULASI!D7 -> Jl. Gatot Subroto No 8 Jakarta
B8: Merk | E8: =REKAPITULASI!D8 -> MOLI
B9: Jenis Produk | E9: =REKAPITULASI!D9 -> Sepeda Motor Listrik
B10: Tipe Produk | E10: =REKAPITULASI!D11 -> G1
B11: Standar
B12: URAIAN | F12: TKDN | H12: Kriteria | J12: Nilai TKDN
F13: 2024-2029 (Bobot 30%) | G13: 2030 - dst (Bobot 20%) | H13: Ada | I13: Tidak Ada
B14: I | C14: Tenaga Kerja Langsung
C15: Jumlah Tenaga kerja dalam negeri > 80% | F15: 0.15 | G15: 0.1 | H15: ü | J15: =IF(H15="ü", F15, IF(I15="ü",0%)) -> 0.15
C16: Jumlah Tenaga kerja dalam negeri 50%-80% | F16: 0.1 | G16: 0.05 | I16: ü | J16: =IF(H16="ü", F16, IF(I16="ü",0%)) -> 0
C17: Jumlah Tenaga kerja dalam negeri < 50% | F17: 0 | G17: 0 | I17: ü | J17: =IF(H17="ü", F17, IF(I17="ü",0%)) -> 0
B18: II | C18: Alat Kerja
C19: Penyambungan rangka, body dan /atau chasis | F19: 0.0375 | G19: 0.025 | H19: ü | J19: =IF(H19="ü", F19, IF(I19="ü",0%)) -> 0.0375
C20: Pengecatan | F20: 0.0375 | G20: 0.025 | I20: ü | J20: =IF(H20="ü", F20, IF(I20="ü",0%)) -> 0
C21: Perakitan komponen utama & pendukung jadi kendaraan | F21: 0.0375 | G21: 0.025 | H21: ü | J21: =IF(H21="ü", F21, IF(I21="ü",0%)) -> 0.0375
C22: Pengujian dan Pengendalian Mutu | F22: 0.0375 | G22: 0.025 | H22: ü | J22: =IF(H22="ü", F22, IF(I22="ü",0%)) -> 0.0375
B23: Total Nilai TKDN Perakitan | J23: =SUM(J14:J22) -> 0.2625
B25: Capaian nilai TKDN diatas dinyatakan sendiri oleh :
B26: =REKAPITULASI!$B$22 -> PT. Molis Maju Bersama Indonesia
B27: Seluruh dokumen yang dinyatakan dalam form TKDN dapat dipertanggungjawabkan sesuai dengan ketentuan perhitungan
B28: TKDN Kendaraan Berbasis Listrik
B30: =REKAPITULASI!$B$26 -> Jakarta, dd mm yyyy
B31: Dinyatakan Oleh,
B34: Materai 10.000
B36: =REKAPITULASI!$B$32 -> isi 'Nama
B37: =REKAPITULASI!$B$33 -> isi ' jabatan

Sheet IV.a. Pengembangan Aktivitas
H2: =REKAPITULASI!$E$2 -> SELF ASSESSMENT
B4: Aspek IV. : TKDN Untuk Pengembangan Berbasis Aktifitas
B6: Perusahaan | E6: =REKAPITULASI!D6 -> PT. Molis Maju Bersama Indonesia
B7: Alamat | E7: =REKAPITULASI!D7 -> Jl. Gatot Subroto No 8 Jakarta
B8: Merk | E8: =REKAPITULASI!D8 -> MOLI
B9: Jenis Produk | E9: =REKAPITULASI!D9 -> Sepeda Motor Listrik
B10: Tipe Produk | E10: =REKAPITULASI!D11 -> G1
B11: Standar | E11: ='III. Perakitan'!E11 -> 0
B12: KOMPONEN | F12: PRESENTASE (TKDN) | G12: KEPEMILIKAN SAHAM | I12: PORSI NILAI (Bobot) | J12: NILAI TKDN
G13: Dimiliki | H13: Bobot
B14: (I) | C14: (II) | F14: (III) | G14: (IV) | I14: (V) | J14: (VI)
B15: I | C15: Penelitian Pasar (Market Research) | F15: 1 | G15: DN | H15: 0 | I15: 0.05 | J15: =F15*H15*I15*10% -> 0
B16: II | C16: Perencanaan Produk (product Planning) | F16: 1 | G16: DN | H16: 0 | I16: 0.15 | J16: =F16*H16*I16*10% -> 0
B17: III | C17: Perencanaan Teknis (Design Engineering) | F17: 1 | G17: LN | H17: 0 | I17: 0.2 | J17: =F17*H17*I17*10% -> 0
B18: IV | C18: Model Kendaraan (Prototyping) | F18: 1 | G18: LN | H18: 0 | I18: 0.2 | J18: =F18*H18*I18*10% -> 0
B19: V | C19: Pengujian Kendaraan (testing) | F19: 1 | G19: DN | H19: 1 | I19: 0.2 | J19: =F19*H19*I19*10% -> 0.02
B20: VI | C20: Sertifikasi Kendaraan (Licensing) | F20: 1 | G20: DN | H20: 1 | I20: 0.2 | J20: =F20*H20*I20*10% -> 0.02
B21: TOTAL NILAI TKDN PENGEMBANGAN Berbasis Aktivitas | J21: =SUM(J15:J20) -> 0.04
B23: Capaian nilai TKDN diatas dinyatakan sendiri oleh :
B24: =REKAPITULASI!$B$22 -> PT. Molis Maju Bersama Indonesia
B25: Seluruh dokumen yang dinyatakan dalam form TKDN dapat dipertanggungjawabkan sesuai dengan ketentuan perhitungan
B26: TKDN Kendaraan Berbasis Listrik
B28: =REKAPITULASI!$B$26 -> Jakarta, dd mm yyyy
B29: Dinyatakan Oleh,
B31: Materai 10.000
B34: =REKAPITULASI!$B$32 -> isi 'Nama
B35: =REKAPITULASI!$B$33 -> isi ' jabatan
B37: UNSUR KEGIATAN
B38: 1 | C38: Memiliki Dokumen dalam bahasa indonesia dan/atau inggris
B39: 2 | C39: Memiliki divisi atau bagian yang bergerak dalam bidang penelitian dan pengembangan dalam struktur organisasi Perusahaan
B40: 3 | C40: Memiliki tenaga kerja/peneliti yang memiliki tugas pokok dan fungsi hanya pada divisi atau bagian
B42: Perhitungan Nilai TKDN terhadap Pemenuhan Unsur Kegiatan
B43: No | C43: Pemenuhan Unsur Kegiatan | F43: TKDN
B44: 1 | C44: Dokumen memenuhi semua unsur kegiatan | F44: 1
B45: 2 | C45: Dokumen memenuhi 2 (dua) unsur kegiatan | F45: 0.8
B46: 3 | C46: Dokumen memenuhi 1 (satu) unsur kegiatan | F46: 0.5
B47: 4 | C47: Tidak memiliki dokumen pendukung untuk seluruh kegiatan | F47: 0
B49: UNSUR KEPEMILIKAN SAHAM
B50: No | C50: Kepemilikan | F50: Bobot
B51: 1 | C51: Dimiliki oleh penyedia jasa dalam negeri | F51: 1
...
