Workbook

Sheet Soal
A1: DATA PERHITUNGAN TKDN BARANG
A2: MOTOR LISTRIK
A4: A. CORPORATE DATA | B4: DATA KONTRAK
B5: Nama Penyedia Barang/Jasa | F5: : PT. Molis Maju Bersama Indonesia
B6: Alamat | F6: : Jl. Gatot Subroto No 8 Jakarta
B7: Jenis Produk | F7: : Sepeda Motor Listrik
B8: Merek | F8: : MOLI
B9: Tipe Produk | F9: : G1
B10: Spesifikasi | F10: : Kapasitas Baterai Lithium 60 Volt 20 Ah
B11: Standar | F11: : -
B12: Tahun Perhitungan | F12: : 2024
B13: Kapasitas Produksi | F13: : 2.000 buah per bulan
A15: B. | B15: DATA BIAYA
C16: No | E16: Nama Barang | F16: Spesifikasi/ Kualifikasi | G16: Pemasok | H16: Negara Asal | I16: Manufaktur | J16: Jumlah pemakaian utk 1 (satu) satuan produk | K16: Satuan | L16: Harga per Satuan (Rupiah) | M16: TKDN (%) | N16: PPN
D17: A | E17: Rangka dan Body
E18: Main frame
C19: 1 | E19: THE FRONT PIPE PART | G19: Tianjin | H19: China | I19: Tianjin | J19: 1 | K19: pcs | L19: 605227.13 | M19: 0 | N19: 0.11
C20: 2 | E20: THE REAR SWING PART | G20: Tianjin | H20: China | I20: Tianjin | J20: 1 | K20: pcs | L20: 259797.12 | M20: 0 | N20: 0.11
E21: Bracket
C22: 3 | E22: FRONT LICENSE PLATE BRACKET | G22: Tianjin | H22: China | I22: Tianjin | J22: 1 | K22: pcs | L22: 168016.2 | M22: 0 | N22: 0.11
C23: 4 | E23: MOUNTING BRACKET | G23: Tianjin | H23: China | I23: Tianjin | J23: 1 | K23: pcs | L23: 168183.08 | M23: 0 | N23: 0.11
E24: Side/main stand
C25: 5 | E25: SIDE STAND PART | G25: Tianjin | H25: China | I25: Tianjin | J25: 1 | K25: pcs | L25: 180364.91 | M25: 0 | N25: 0.11
E26: Rear/front fender
C27: 6 | E27: REAR FENDER ON THE REAR SWING PART OF FRAME | G27: Tianjin | H27: China | I27: Tianjin | J27: 1 | K27: pcs | L27: 173022.44 | M27: 0 | N27: 0.11
C28: 7 | E28: FRONT REAR FENDER | G28: Tianjin | H28: China | I28: Tianjin | J28: 1 | K28: pcs | L28: 167014.96 | M28: 0 | N28: 0.11
E29: Seat Assy
C30: 8 | E30: SEAT ASSY | G30: Tianjin | H30: China | I30: Tianjin | J30: 1 | K30: pcs | L30: 272646.45 | M30: 0 | N30: 0.11
E31: Spion
C32: 9 | E32: SPION | G32: Tianjin | H32: China | I32: Tianjin | J32: 1 | K32: pcs | L32: 173022.44 | M32: 0 | N32: 0.11
E33: Stepbar
C34: 10 | E34: FOOTPLATE | G34: Tianjin | H34: China | I34: Tianjin | J34: 1 | K34: pcs | L34: 173022.44 | M34: 0 | N34: 0.11
C35: 11 | E35: COVER ON THE FOOTPLATE | G35: Tianjin | H35: China | I35: Tianjin | J35: 1 | K35: pcs | L35: 173022.44 | M35: 0 | N35: 0.11
E36: Cover Plastic Set
C37: 12 | E37: THE FRONT COVER | G37: Tianjin | H37: China | I37: Tianjin | J37: 1 | K37: pcs | L37: 182033.65 | M37: 0 | N37: 0.11
C38: 13 | E38: FRONT SHIELD | G38: Tianjin | H38: China | I38: Tianjin | J38: 1 | K38: pcs | L38: 162877.1 | M38: 0 | N38: 0.11
C39: 14 | E39: THE FIXED PLATE FOR SCREW | G39: Tianjin | H39: China | I39: Tianjin | J39: 1 | K39: pcs | L39: 163343.72 | M39: 0 | N39: 0.11
C40: 15 | E40: BOLT M6X12 | G40: Tianjin | H40: China | I40: Tianjin | J40: 1 | K40: pcs | L40: 162877.1 | M40: 0 | N40: 0.11
C41: 16 | E41: BOLT M6X16 | G41: Tianjin | H41: China | I41: Tianjin | J41: 1 | K41: pcs | L41: 169017.45 | M41: 0 | N41: 0.11
C42: 17 | E42: WASHER | G42: Tianjin | H42: China | I42: Tianjin | J42: 1 | K42: pcs | L42: 155166.87 | M42: 0 | N42: 0.11
E43: Reflex Reflector
C44: 18 | E44: REFLECTOR | G44: Tianjin | H44: China | I44: Tianjin | J44: 1 | K44: pcs | L44: 158003.74 | M44: 0 | N44: 0.11
D45: B | E45: Baterai
E46: Baterai
C47: 19 | E47: 60V20AH CHARGER | G47: Tianjin | H47: China | I47: Tianjin | J47: 1 | K47: pcs | L47: 394798.51 | M47: 0 | N47: 0
C48: 20 | E48: LITHIUM BATTERY ASSY. | G48: PT ABC | H48: Indonesia | I48: PT ABC | J48: 1 | K48: pcs | L48: 5155000 | M48: Komponen penyusun baterai berupa Wiring harness dan housing diproduksi di Indonesia. kemudian diassembly PT ABC | N48: 0
E49: Kabel Kelistrikan
C50: 21 | E50: WIRING HARNESS | G50: Tianjin | H50: China | I50: Tianjin | J50: 1 | K50: pcs | L50: 279321.43 | M50: 0 | N50: 0
D51: C | E51: Drive Train, PCU
E52: Kontroler/ECU/PCU
C53: 22 | E53: ENGINE RIM BLDC | G53: Tianjin | H53: China | I53: Tianjin | J53: 1 | K53: pcs | L53: 1543185.1 | M53: 0 | N53: 0
C54: 23 | E54: CONTROLLER | G54: Tianjin | H54: China | I54: Tianjin | J54: 1 | K54: pcs | L54: 522290.55 | M54: 0 | N54: 0
D55: D | E55: Sistem Setir
E56: Handle assy steering system
C57: 24 | E57: HANDLE GRIP , LH | G57: Tianjin | H57: China | I57: Tianjin | J57: 1 | K57: pcs | L57: 173523.06 | M57: 0 | N57: 0
C58: 25 | E58: SWITCH OF RIGHT | G58: Tianjin | H58: China | I58: Tianjin | J58: 1 | K58: pcs | L58: 222417.26 | M58: 0 | N58: 0
D59: E | E59: Suspensi
E60: Suspensi Depan
C61: 26 | E61: HANDLEBAR | G61: Tianjin | H61: China | I61: Tianjin | J61: 1 | K61: pcs | L61: 197552.97 | M61: 0 | N61: 0
E62: Suspensi Belakang
C63: 27 | E63: REAR SHOCK | G63: Tianjin | H63: China | I63: Tianjin | J63: 1 | K63: pcs | L63: 253122.15 | M63: 0 | N63: 0
D64: F | E64: Sistem Pengereman
E65: Disc brake assy
C66: 28 | E66: FRONT DISC BRAKE ASSY | G66: Tianjin | H66: China | I66: Tianjin | J66: 1 | K66: pcs | L66: 335057.48 | M66: 0 | N66: 0
C67: 29 | E67: DISC BRAKE DISC FR | G67: Tianjin | H67: China | I67: Tianjin | J67: 1 | K67: pcs | L67: 236434.71 | M67: 0 | N67: 0
D68: G | E68: Sistem Roda dan Transmisi
E69: Wheels & Transmission
C70: 30 | E70: FRONT RIM | G70: Tianjin | H70: China | I70: Tianjin | J70: 1 | K70: pcs | L70: 300000 | M70: 0 | N70: 0
C71: 31 | E71: TIRE | G71: Tianjin | H71: China | I71: Tianjin | J71: 2 | K71: pcs | L71: 300000 | M71: 0 | N71: 0
D72: H | E72: Sistem Elektronik
E73: Speedometer assy comb
C74: 32 | E74: LED METER | G74: Tianjin | H74: China | I74: Tianjin | J74: 1 | K74: pcs | L74: 230260.35 | M74: 0 | N74: 0
E75: Head lamp
C76: 33 | E76: HEAD LAMP SHADE | G76: Tianjin | H76: China | I76: Tianjin | J76: 1 | K76: pcs | L76: 161174.35 | M76: 0 | N76: 0
E77: Horn
C78: 34 | E78: HORN | G78: Tianjin | H78: China | I78: Tianjin | J78: 1 | K78: pcs | L78: 168016.2 | M78: 0 | N78: 0
C79: 35 | E79: SWITCH OF RIGHT | G79: Tianjin | H79: China | I79: Tianjin | J79: 1 | K79: pcs | L79: 222417.26 | M79: 0 | N79: 0
C80: 36 | E80: LOCK SET | G80: Tianjin | H80: China | I80: Tianjin | J80: 1 | K80: pcs | L80: 194048.61 | M80: 0 | N80: 0
E82: Catatan :
D83: a. | E83: Setiap bahan baku yang dibeli dari Dalam Negeri dikenai PPN sebesar 11% yang dibuktikan oleh faktur pajak pembelian
E85: TENAGA KERJA
C86: No | E86: Jabatan | F86: Spesifikasi/ Kualifikasi | G86: Kewarganegaraan | H86: Jumlah | I86: Gaji per Bulan (Rupiah) | J86: Alokasi (%) | K86: Tenaga Kerja
C88: 1 | E88: Operator | F88: D3 - Pengalaman 2 Tahun | G88: Indonesia | H88: 15 | I88: 4500000 | J88: =1/8*100 -> 12.5 | K88: Langsung
C89: 2 | E89: Foreman | F89: D3 - Pengalaman 5 Tahun | G89: Indonesia | H89: 3 | I89: 5500000 | J89: =1/8*100 -> 12.5 | K89: Langsung
C90: 3 | E90: Quality Control | F90: S1 - Pengalaman 10 Tahun | G90: Indonesia | H90: 4 | I90: 7500000 | J90: =1/8*100 -> 12.5 | K90: Langsung
C91: 4 | E91: Supervisor Produksi | F91: S1 - Pengalaman 10 Tahun | G91: Indonesia | H91: 2 | I91: 8000000 | J91: =J88/2 -> 6.25 | K91: Tidak Langsung
C92: 5 | E92: Manajer Produksi | F92: S1 - Pengalaman 15 Tahun | G92: Indonesia | H92: 1 | I92: 10000000 | J92: 3.13 | K92: Tidak Langsung
E94: Catatan :
D95: a. | E95: PPH 21 untuk seluruh tenaga kerja sebesar 10% ditanggung oleh Perusahaan
D96: b. | E96: Perusahaan juga membayarkan Asuransi Tenaga Kerja (operator, Foreman, Quality Control) dengan total sebesar Rp 10.000.000 per bulan kepada Jamsostek, untuk asuransi tenaga kerja supervisor & manajer produksi sudah termasuk dalam gaji tenaga kerja
E98: ALAT KERJA
C99: No | E99: Nama Alat Kerja | F99: Spesifikasi | G99: Made In | H99: Pemilik Alat Kerja | I99: Jumlah (Unit) | J99: Biaya Depresiasi per Bulan (Rupiah) | K99: Alokasi (%)
C101: 1 | E101: Mesin Produksi | F101: All Assets | G101: China | H101: PT Molis Maju Bersama Indonesia | I101: 1 | J101: 40000000 | K101: =1/8*100 -> 12.5
C102: 2 | E102: Alat Testing | F102: All Assets | G102: China | H102: PT Molis Maju Bersama Indonesia | I102: 1 | J102: 3000000 | K102: =1/8*100 -> 12.5
C103: 3 | E103: Hand tools | F103: All Assets | G103: Indonesia | H103: PT Molis Maju Bersama Indonesia | I103: 1 | J103: 0 | K103: =1/8*100 -> 12.5
E105: Catatan :
D106: a. | E106: Dua buah Forklift (made in USA) disewa oleh PT Molis Maju Bersama Indonesia dari PT Forklift Indonesia dengan total biaya sewa Rp 10.000.000/bln, alokasi Forklift untuk membuat Motor Listrik yang sedang dihitung adalah 12,5%
D107: b. | E107: PT Molis Maju Bersama Indonesia adalah perusahaan yang dimiliki oleh 100% WNI
D108: c. | E108: PT Forklift Indonesia adalah perusahaan yang dimiliki oleh 100% WNI
E110: BIAYA OVERHEAD
...

Sheet REKAPITULASI
E2: SELF ASSESSMENT
B4: Rekapitulasi TKDN KBL Berbasis Baterai
B6: Perusahaan | D6: PT. Molis Maju Bersama Indonesia
B7: Alamat | D7: Jl. Gatot Subroto No 8 Jakarta
B8: Merk | D8: MOLI
B9: Jenis Kendaraan | D9: Sepeda Motor Listrik
B10: Negara Asal Merek | D10: Indonesia
B11: Tipe Produk | D11: G1
B13: No | C13: Uraian | D13: Bobot TKDN | E13: TKDN
B14: I | C14: Komponen Utama | D14: 0.5 | E14: ='I, II. Manufakturing R2-R3'!G16 -> 0.17687061
B15: II | C15: Komponen Pendukung | D15: 0.1 | E15: ='I, II. Manufakturing R2-R3'!G55 -> 0
B16: III | C16: Perakitan | D16: 0.3 | E16: ='III. Perakitan'!J23 -> 0.2625
B17: IV | C17: Pengembangan | D17: 0.1 | E17: ='IV.a. Pengembangan Aktivitas'!J21 -> 0.04
B19: TKDN KBL BERBASIS BATERAI | E19: =SUM(E14:E18) -> 0.47937061
B21: Capaian nilai TKDN diatas dinyatakan sendiri oleh :
B22: =$D$6 -> PT. Molis Maju Bersama Indonesia
B23: Seluruh dokumen yang dinyatakan dalam form TKDN dapat dipertanggungjawabkan sesuai dengan ketentuan perhitungan
B24: TKDN Kendaraan Berbasis Listrik
B26: Jakarta, dd mm yyyy
B27: Dinyatakan Oleh,
B29: Materai 10.000
B32: isi 'Nama
B33: isi ' jabatan

Sheet Form 1.1
K1: =REKAPITULASI!$E$2 -> SELF ASSESSMENT
A3: Formulir 1.1. : TKDN untuk Bahan Baku (Bahan Baku Langsung / Tidak Langsung)
A6: Penyedia Barang / Jasa | D6: =REKAPITULASI!D6 -> PT. Molis Maju Bersama Indonesia
A7: Hasil Produksi | D7: Kendaraan Bermotor Listrik Berbasis Baterai
A8: Jenis Produk | D8: =Soal!F7 -> : Sepeda Motor Listrik
A9: Spesifikasi | D9: =Soal!F10 -> : Kapasitas Baterai Lithium 60 Volt 20 Ah
A10: Standar | D10: =Soal!F11 -> : -
A12: No. | B12: Uraian | D12: Spesifikasi | E12: Satuan Bahan Baku | F12: Negara Asal | G12: Pemasok / Produsen Tingkat 2 | H12: TKDN (%) | I12: Jumlah Pemakaian untuk 1 (Satu) Satuan Produk | J12: Harga 1 (Satu) Satuan Material (Rupiah) | K12: B I A Y A
K13: (Rupiah)
K14: KDN | L14: KLN | M14: Total
A15: (1) | B15: (2) | D15: (3) | E15: (4) | F15: (5) | G15: (6) | H15: (7) | I15: (8) | J15: (9) | K15: (10)
K17: =(H17/100)*I17*J17 -> 0 | L17: =(1-(H17/100))*I17*J17 -> 0 | M17: =SUM(K17:L17) -> 0
A18: I | B18: Komponen Rangka Utama
B19: A | C19: Rangka dan Body | K19: =(H19/100)*I19*J19 -> 0 | L19: =(1-(H19/100))*I19*J19 -> 0 | M19: =SUM(K19:L19) -> 0
C20: =Soal!E18 -> Main frame | K20: =(H20/100)*I20*J20 -> 0 | L20: =(1-(H20/100))*I20*J20 -> 0 | M20: =SUM(K20:L20) -> 0
A21: =Soal!C19 -> 1 | C21: =Soal!E19 -> THE FRONT PIPE PART | E21: =Soal!K19 -> pcs | F21: =Soal!H19 -> China | G21: =Soal!I19 -> Tianjin | H21: =Soal!M18 -> 0 | I21: =Soal!J19 -> 1 | J21: =Soal!L19 -> 605227.13 | K21: =(H21/100)*I21*J21 -> 0 | L21: =(1-(H21/100))*I21*J21 -> 605227.13 | M21: =SUM(K21:L21) -> 605227.13
A22: =Soal!C20 -> 2 | C22: =Soal!E20 -> THE REAR SWING PART | E22: =Soal!K20 -> pcs | F22: =Soal!H20 -> China | G22: =Soal!I20 -> Tianjin | H22: =Soal!M19 -> 0 | I22: =Soal!J20 -> 1 | J22: =Soal!L20 -> 259797.12 | K22: =(H22/100)*I22*J22 -> 0 | L22: =(1-(H22/100))*I22*J22 -> 259797.12 | M22: =SUM(K22:L22) -> 259797.12
C23: =Soal!E21 -> Bracket | K23: =(H23/100)*I23*J23 -> 0 | L23: =(1-(H23/100))*I23*J23 -> 0 | M23: =SUM(K23:L23) -> 0
A24: =Soal!C22 -> 3 | C24: =Soal!E22 -> FRONT LICENSE PLATE BRACKET | E24: =Soal!K22 -> pcs | F24: =Soal!H22 -> China | G24: =Soal!I22 -> Tianjin | H24: =Soal!M21 -> 0 | I24: =Soal!J22 -> 1 | J24: =Soal!L22 -> 168016.2 | K24: =(H24/100)*I24*J24 -> 0 | L24: =(1-(H24/100))*I24*J24 -> 168016.2 | M24: =SUM(K24:L24) -> 168016.2
A25: =Soal!C23 -> 4 | C25: =Soal!E23 -> MOUNTING BRACKET | E25: =Soal!K23 -> pcs | F25: =Soal!H23 -> China | G25: =Soal!I23 -> Tianjin | H25: =Soal!M22 -> 0 | I25: =Soal!J23 -> 1 | J25: =Soal!L23 -> 168183.08 | K25: =(H25/100)*I25*J25 -> 0 | L25: =(1-(H25/100))*I25*J25 -> 168183.08 | M25: =SUM(K25:L25) -> 168183.08
C26: =Soal!E24 -> Side/main stand | K26: =(H26/100)*I26*J26 -> 0 | L26: =(1-(H26/100))*I26*J26 -> 0 | M26: =SUM(K26:L26) -> 0
A27: =Soal!C25 -> 5 | C27: =Soal!E25 -> SIDE STAND PART | E27: =Soal!K25 -> pcs | F27: =Soal!H25 -> China | G27: =Soal!I25 -> Tianjin | H27: =Soal!M24 -> 0 | I27: =Soal!J25 -> 1 | J27: =Soal!L25 -> 180364.91 | K27: =(H27/100)*I27*J27 -> 0 | L27: =(1-(H27/100))*I27*J27 -> 180364.91 | M27: =SUM(K27:L27) -> 180364.91
C28: =Soal!E26 -> Rear/front fender | K28: =(H28/100)*I28*J28 -> 0 | L28: =(1-(H28/100))*I28*J28 -> 0 | M28: =SUM(K28:L28) -> 0
A29: =Soal!C27 -> 6 | C29: =Soal!E27 -> REAR FENDER ON THE REAR SWING PART OF FRAME | E29: =Soal!K27 -> pcs | F29: =Soal!H27 -> China | G29: =Soal!I27 -> Tianjin | H29: =Soal!M26 -> 0 | I29: =Soal!J27 -> 1 | J29: =Soal!L27 -> 173022.44 | K29: =(H29/100)*I29*J29 -> 0 | L29: =(1-(H29/100))*I29*J29 -> 173022.44 | M29: =SUM(K29:L29) -> 173022.44
A30: =Soal!C28 -> 7 | C30: =Soal!E28 -> FRONT REAR FENDER | E30: =Soal!K28 -> pcs | F30: =Soal!H28 -> China | G30: =Soal!I28 -> Tianjin | H30: =Soal!M27 -> 0 | I30: =Soal!J28 -> 1 | J30: =Soal!L28 -> 167014.96 | K30: =(H30/100)*I30*J30 -> 0 | L30: =(1-(H30/100))*I30*J30 -> 167014.96 | M30: =SUM(K30:L30) -> 167014.96
C31: =Soal!E29 -> Seat Assy | K31: =(H31/100)*I31*J31 -> 0 | L31: =(1-(H31/100))*I31*J31 -> 0 | M31: =SUM(K31:L31) -> 0
A32: =Soal!C30 -> 8 | C32: =Soal!E30 -> SEAT ASSY | E32: =Soal!K30 -> pcs | F32: =Soal!H30 -> China | G32: =Soal!I30 -> Tianjin | H32: =Soal!M29 -> 0 | I32: =Soal!J30 -> 1 | J32: =Soal!L30 -> 272646.45 | K32: =(H32/100)*I32*J32 -> 0 | L32: =(1-(H32/100))*I32*J32 -> 272646.45 | M32: =SUM(K32:L32) -> 272646.45
C33: =Soal!E31 -> Spion | K33: =(H33/100)*I33*J33 -> 0 | L33: =(1-(H33/100))*I33*J33 -> 0 | M33: =SUM(K33:L33) -> 0
A34: =Soal!C32 -> 9 | C34: =Soal!E32 -> SPION | E34: =Soal!K32 -> pcs | F34: =Soal!H32 -> China | G34: =Soal!I32 -> Tianjin | H34: =Soal!M31 -> 0 | I34: =Soal!J32 -> 1 | J34: =Soal!L32 -> 173022.44 | K34: =(H34/100)*I34*J34 -> 0 | L34: =(1-(H34/100))*I34*J34 -> 173022.44 | M34: =SUM(K34:L34) -> 173022.44
C35: =Soal!E33 -> Stepbar | K35: =(H35/100)*I35*J35 -> 0 | L35: =(1-(H35/100))*I35*J35 -> 0 | M35: =SUM(K35:L35) -> 0
A36: =Soal!C34 -> 10 | C36: =Soal!E34 -> FOOTPLATE | E36: =Soal!K34 -> pcs | F36: =Soal!H34 -> China | G36: =Soal!I34 -> Tianjin | H36: =Soal!M33 -> 0 | I36: =Soal!J34 -> 1 | J36: =Soal!L34 -> 173022.44 | K36: =(H36/100)*I36*J36 -> 0 | L36: =(1-(H36/100))*I36*J36 -> 173022.44 | M36: =SUM(K36:L36) -> 173022.44
A37: =Soal!C35 -> 11 | C37: =Soal!E35 -> COVER ON THE FOOTPLATE | E37: =Soal!K35 -> pcs | F37: =Soal!H35 -> China | G37: =Soal!I35 -> Tianjin | H37: =Soal!M34 -> 0 | I37: =Soal!J35 -> 1 | J37: =Soal!L35 -> 173022.44 | K37: =(H37/100)*I37*J37 -> 0 | L37: =(1-(H37/100))*I37*J37 -> 173022.44 | M37: =SUM(K37:L37) -> 173022.44
C38: =Soal!E36 -> Cover Plastic Set | K38: =(H38/100)*I38*J38 -> 0 | L38: =(1-(H38/100))*I38*J38 -> 0 | M38: =SUM(K38:L38) -> 0
A39: =Soal!C37 -> 12 | C39: =Soal!E37 -> THE FRONT COVER | E39: =Soal!K37 -> pcs | F39: =Soal!H37 -> China | G39: =Soal!I37 -> Tianjin | H39: =Soal!M36 -> 0 | I39: =Soal!J37 -> 1 | J39: =Soal!L37 -> 182033.65 | K39: =(H39/100)*I39*J39 -> 0 | L39: =(1-(H39/100))*I39*J39 -> 182033.65 | M39: =SUM(K39:L39) -> 182033.65
A40: =Soal!C38 -> 13 | C40: =Soal!E38 -> FRONT SHIELD | E40: =Soal!K38 -> pcs | F40: =Soal!H38 -> China | G40: =Soal!I38 -> Tianjin | H40: =Soal!M37 -> 0 | I40: =Soal!J38 -> 1 | J40: =Soal!L38 -> 162877.1 | K40: =(H40/100)*I40*J40 -> 0 | L40: =(1-(H40/100))*I40*J40 -> 162877.1 | M40: =SUM(K40:L40) -> 162877.1
A41: =Soal!C39 -> 14 | C41: =Soal!E39 -> THE FIXED PLATE FOR SCREW | E41: =Soal!K39 -> pcs | F41: =Soal!H39 -> China | G41: =Soal!I39 -> Tianjin | H41: =Soal!M38 -> 0 | I41: =Soal!J39 -> 1 | J41: =Soal!L39 -> 163343.72 | K41: =(H41/100)*I41*J41 -> 0 | L41: =(1-(H41/100))*I41*J41 -> 163343.72 | M41: =SUM(K41:L41) -> 163343.72
A42: =Soal!C40 -> 15 | C42: =Soal!E40 -> BOLT M6X12 | E42: =Soal!K40 -> pcs | F42: =Soal!H40 -> China | G42: =Soal!I40 -> Tianjin | H42: =Soal!M39 -> 0 | I42: =Soal!J40 -> 1 | J42: =Soal!L40 -> 162877.1 | K42: =(H42/100)*I42*J42 -> 0 | L42: =(1-(H42/100))*I42*J42 -> 162877.1 | M42: =SUM(K42:L42) -> 162877.1
A43: =Soal!C41 -> 16 | C43: =Soal!E41 -> BOLT M6X16 | E43: =Soal!K41 -> pcs | F43: =Soal!H41 -> China | G43: =Soal!I41 -> Tianjin | H43: =Soal!M40 -> 0 | I43: =Soal!J41 -> 1 | J43: =Soal!L41 -> 169017.45 | K43: =(H43/100)*I43*J43 -> 0 | L43: =(1-(H43/100))*I43*J43 -> 169017.45 | M43: =SUM(K43:L43) -> 169017.45
A44: =Soal!C42 -> 17 | C44: =Soal!E42 -> WASHER | E44: =Soal!K42 -> pcs | F44: =Soal!H42 -> China | G44: =Soal!I42 -> Tianjin | H44: =Soal!M41 -> 0 | I44: =Soal!J42 -> 1 | J44: =Soal!L42 -> 155166.87 | K44: =(H44/100)*I44*J44 -> 0 | L44: =(1-(H44/100))*I44*J44 -> 155166.87 | M44: =SUM(K44:L44) -> 155166.87
C45: =Soal!E43 -> Reflex Reflector | K45: =(H45/100)*I45*J45 -> 0 | L45: =(1-(H45/100))*I45*J45 -> 0 | M45: =SUM(K45:L45) -> 0
A46: =Soal!C44 -> 18 | C46: =Soal!E44 -> REFLECTOR | E46: =Soal!K44 -> pcs | F46: =Soal!H44 -> China | G46: =Soal!I44 -> Tianjin | H46: =Soal!M43 -> 0 | I46: =Soal!J44 -> 1 | J46: =Soal!L44 -> 158003.74 | K46: =(H46/100)*I46*J46 -> 0 | L46: =(1-(H46/100))*I46*J46 -> 158003.74 | M46: =SUM(K46:L46) -> 158003.74
B47: B | C47: Baterai | K47: =(H47/100)*I47*J47 -> 0 | L47: =(1-(H47/100))*I47*J47 -> 0 | M47: =SUM(K47:L47) -> 0
C48: =Soal!E46 -> Baterai | K48: =(H48/100)*I48*J48 -> 0 | L48: =(1-(H48/100))*I48*J48 -> 0 | M48: =SUM(K48:L48) -> 0
A49: =Soal!C47 -> 19 | C49: =Soal!E47 -> 60V20AH CHARGER | E49: =Soal!K47 -> pcs | F49: =Soal!H47 -> China | G49: =Soal!I47 -> Tianjin | H49: =Soal!M47 -> 0 | I49: =Soal!J47 -> 1 | J49: =Soal!L47 -> 394798.51 | K49: =(H49/100)*I49*J49 -> 0 | L49: =(1-(H49/100))*I49*J49 -> 394798.51 | M49: =SUM(K49:L49) -> 394798.51
A50: =Soal!C48 -> 20 | C50: =Soal!E48 -> LITHIUM BATTERY ASSY. | E50: =Soal!K48 -> pcs | F50: =Soal!H48 -> Indonesia | G50: =Soal!I48 -> PT ABC | H50: 50 | I50: =Soal!J48 -> 1 | J50: =Soal!L48 -> 5155000 | K50: =(H50/100)*I50*J50 -> 2577500 | L50: =(1-(H50/100))*I50*J50 -> 2577500 | M50: =SUM(K50:L50) -> 5155000
C51: =Soal!E49 -> Kabel Kelistrikan | K51: =(H51/100)*I51*J51 -> 0 | L51: =(1-(H51/100))*I51*J51 -> 0 | M51: =SUM(K51:L51) -> 0
A52: =Soal!C50 -> 21 | C52: =Soal!E50 -> WIRING HARNESS | E52: =Soal!K50 -> pcs | F52: =Soal!H50 -> China | G52: =Soal!I50 -> Tianjin | H52: =Soal!M50 -> 0 | I52: =Soal!J50 -> 1 | J52: =Soal!L50 -> 279321.43 | K52: =(H52/100)*I52*J52 -> 0 | L52: =(1-(H52/100))*I52*J52 -> 279321.43 | M52: =SUM(K52:L52) -> 279321.43
B53: C | C53: Sistem Penggerak Drivetrain, PCU | K53: =(H53/100)*I53*J53 -> 0 | L53: =(1-(H53/100))*I53*J53 -> 0 | M53: =SUM(K53:L53) -> 0
C54: =Soal!E52 -> Kontroler/ECU/PCU | K54: =(H54/100)*I54*J54 -> 0 | L54: =(1-(H54/100))*I54*J54 -> 0 | M54: =SUM(K54:L54) -> 0
A55: =Soal!C53 -> 22 | C55: =Soal!E53 -> ENGINE RIM BLDC | E55: =Soal!K53 -> pcs | F55: =Soal!H53 -> China | G55: =Soal!I53 -> Tianjin | H55: =Soal!M53 -> 0 | I55: =Soal!J53 -> 1 | J55: =Soal!L53 -> 1543185.1 | K55: =(H55/100)*I55*J55 -> 0 | L55: =(1-(H55/100))*I55*J55 -> 1543185.1 | M55: =SUM(K55:L55) -> 1543185.1
A56: =Soal!C54 -> 23 | C56: =Soal!E54 -> CONTROLLER | E56: =Soal!K54 -> pcs | F56: =Soal!H54 -> China | G56: =Soal!I54 -> Tianjin | H56: =Soal!M54 -> 0 | I56: =Soal!J54 -> 1 | J56: =Soal!L54 -> 522290.55 | K56: =(H56/100)*I56*J56 -> 0 | L56: =(1-(H56/100))*I56*J56 -> 522290.55 | M56: =SUM(K56:L56) -> 522290.55
A57: II | B57: Komponen Pendukung | K57: =(H57/100)*I57*J57 -> 0 | L57: =(1-(H57/100))*I57*J57 -> 0 | M57: =SUM(K57:L57) -> 0
B58: D | C58: Sistem Setir (Steering system) | K58: =(H58/100)*I58*J58 -> 0 | L58: =(1-(H58/100))*I58*J58 -> 0 | M58: =SUM(K58:L58) -> 0
C59: =Soal!E56 -> Handle assy steering system | K59: =(H59/100)*I59*J59 -> 0 | L59: =(1-(H59/100))*I59*J59 -> 0 | M59: =SUM(K59:L59) -> 0
A60: =Soal!C57 -> 24 | C60: =Soal!E57 -> HANDLE GRIP , LH | E60: =Soal!K57 -> pcs | F60: =Soal!H57 -> China | G60: =Soal!I57 -> Tianjin | H60: =Soal!M57 -> 0 | I60: =Soal!J57 -> 1 | J60: =Soal!L57 -> 173523.06 | K60: =(H60/100)*I60*J60 -> 0 | L60: =(1-(H60/100))*I60*J60 -> 173523.06 | M60: =SUM(K60:L60) -> 173523.06
A61: =Soal!C58 -> 25 | C61: =Soal!E58 -> SWITCH OF RIGHT | E61: =Soal!K58 -> pcs | F61: =Soal!H58 -> China | G61: =Soal!I58 -> Tianjin | H61: =Soal!M58 -> 0 | I61: =Soal!J58 -> 1 | J61: =Soal!L58 -> 222417.26 | K61: =(H61/100)*I61*J61 -> 0 | L61: =(1-(H61/100))*I61*J61 -> 222417.26 | M61: =SUM(K61:L61) -> 222417.26
B62: E | C62: Suspensi | K62: =(H62/100)*I62*J62 -> 0 | L62: =(1-(H62/100))*I62*J62 -> 0 | M62: =SUM(K62:L62) -> 0
C63: =Soal!E60 -> Suspensi Depan | K63: =(H63/100)*I63*J63 -> 0 | L63: =(1-(H63/100))*I63*J63 -> 0 | M63: =SUM(K63:L63) -> 0
A64: =Soal!C61 -> 26 | C64: =Soal!E61 -> HANDLEBAR | E64: =Soal!K61 -> pcs | F64: =Soal!H61 -> China | G64: =Soal!I61 -> Tianjin | H64: =Soal!M61 -> 0 | I64: =Soal!J61 -> 1 | J64: =Soal!L61 -> 197552.97 | K64: =(H64/100)*I64*J64 -> 0 | L64: =(1-(H64/100))*I64*J64 -> 197552.97 | M64: =SUM(K64:L64) -> 197552.97
C65: =Soal!E62 -> Suspensi Belakang | K65: =(H65/100)*I65*J65 -> 0 | L65: =(1-(H65/100))*I65*J65 -> 0 | M65: =SUM(K65:L65) -> 0
A66: =Soal!C63 -> 27 | C66: =Soal!E63 -> REAR SHOCK | E66: =Soal!K63 -> pcs | F66: =Soal!H63 -> China | G66: =Soal!I63 -> Tianjin | H66: =Soal!M63 -> 0 | I66: =Soal!J63 -> 1 | J66: =Soal!L63 -> 253122.15 | K66: =(H66/100)*I66*J66 -> 0 | L66: =(1-(H66/100))*I66*J66 -> 253122.15 | M66: =SUM(K66:L66) -> 253122.15
B67: F | C67: Sistem Pengereman | K67: =(H67/100)*I67*J67 -> 0 | L67: =(1-(H67/100))*I67*J67 -> 0 | M67: =SUM(K67:L67) -> 0
C68: =Soal!E65 -> Disc brake assy | K68: =(H68/100)*I68*J68 -> 0 | L68: =(1-(H68/100))*I68*J68 -> 0 | M68: =SUM(K68:L68) -> 0
A69: =Soal!C66 -> 28 | C69: =Soal!E66 -> FRONT DISC BRAKE ASSY | E69: =Soal!K66 -> pcs | F69: =Soal!H66 -> China | G69: =Soal!I66 -> Tianjin | H69: =Soal!M66 -> 0 | I69: =Soal!J66 -> 1 | J69: =Soal!L66 -> 335057.48 | K69: =(H69/100)*I69*J69 -> 0 | L69: =(1-(H69/100))*I69*J69 -> 335057.48 | M69: =SUM(K69:L69) -> 335057.48
A70: =Soal!C67 -> 29 | C70: =Soal!E67 -> DISC BRAKE DISC FR | E70: =Soal!K67 -> pcs | F70: =Soal!H67 -> China | G70: =Soal!I67 -> Tianjin | H70: =Soal!M67 -> 0 | I70: =Soal!J67 -> 1 | J70: =Soal!L67 -> 236434.71 | K70: =(H70/100)*I70*J70 -> 0 | L70: =(1-(H70/100))*I70*J70 -> 236434.71 | M70: =SUM(K70:L70) -> 236434.71
B71: G | C71: Sistem Roda & Transmisi | K71: =(H71/100)*I71*J71 -> 0 | L71: =(1-(H71/100))*I71*J71 -> 0 | M71: =SUM(K71:L71) -> 0
C72: =Soal!E69 -> Wheels & Transmission | K72: =(H72/100)*I72*J72 -> 0 | L72: =(1-(H72/100))*I72*J72 -> 0 | M72: =SUM(K72:L72) -> 0
A73: =Soal!C70 -> 30 | C73: =Soal!E70 -> FRONT RIM | E73: =Soal!K70 -> pcs | F73: =Soal!H70 -> China | G73: =Soal!I70 -> Tianjin | H73: =Soal!M70 -> 0 | I73: =Soal!J70 -> 1 | J73: =Soal!L70 -> 300000 | K73: =(H73/100)*I73*J73 -> 0 | L73: =(1-(H73/100))*I73*J73 -> 300000 | M73: =SUM(K73:L73) -> 300000
A74: =Soal!C71 -> 31 | C74: =Soal!E71 -> TIRE | E74: =Soal!K71 -> pcs | F74: =Soal!H71 -> China | G74: =Soal!I71 -> Tianjin | H74: =Soal!M71 -> 0 | I74: =Soal!J71 -> 2 | J74: =Soal!L71 -> 300000 | K74: =(H74/100)*I74*J74 -> 0 | L74: =(1-(H74/100))*I74*J74 -> 600000 | M74: =SUM(K74:L74) -> 600000
B75: H | C75: Sistem Elektronik | K75: =(H75/100)*I75*J75 -> 0 | L75: =(1-(H75/100))*I75*J75 -> 0 | M75: =SUM(K75:L75) -> 0
C76: =Soal!E73 -> Speedometer assy comb | K76: =(H76/100)*I76*J76 -> 0 | L76: =(1-(H76/100))*I76*J76 -> 0 | M76: =SUM(K76:L76) -> 0
A77: =Soal!C74 -> 32 | C77: =Soal!E74 -> LED METER | E77: =Soal!K74 -> pcs | F77: =Soal!H74 -> China | G77: =Soal!I74 -> Tianjin | H77: =Soal!M74 -> 0 | I77: =Soal!J74 -> 1 | J77: =Soal!L74 -> 230260.35 | K77: =(H77/100)*I77*J77 -> 0 | L77: =(1-(H77/100))*I77*J77 -> 230260.35 | M77: =SUM(K77:L77) -> 230260.35
C78: =Soal!E75 -> Head lamp | K78: =(H78/100)*I78*J78 -> 0 | L78: =(1-(H78/100))*I78*J78 -> 0 | M78: =SUM(K78:L78) -> 0
A79: =Soal!C76 -> 33 | C79: =Soal!E76 -> HEAD LAMP SHADE | E79: =Soal!K76 -> pcs | F79: =Soal!H76 -> China | G79: =Soal!I76 -> Tianjin | H79: =Soal!M76 -> 0 | I79: =Soal!J76 -> 1 | J79: =Soal!L76 -> 161174.35 | K79: =(H79/100)*I79*J79 -> 0 | L79: =(1-(H79/100))*I79*J79 -> 161174.35 | M79: =SUM(K79:L79) -> 161174.35
C80: =Soal!E77 -> Horn | K80: =(H80/100)*I80*J80 -> 0 | L80: =(1-(H80/100))*I80*J80 -> 0 | M80: =SUM(K80:L80) -> 0
A81: =Soal!C78 -> 34 | C81: =Soal!E78 -> HORN | E81: =Soal!K78 -> pcs | F81: =Soal!H78 -> China | G81: =Soal!I78 -> Tianjin | H81: =Soal!M78 -> 0 | I81: =Soal!J78 -> 1 | J81: =Soal!L78 -> 168016.2 | K81: =(H81/100)*I81*J81 -> 0 | L81: =(1-(H81/100))*I81*J81 -> 168016.2 | M81: =SUM(K81:L81) -> 168016.2
A82: =Soal!C79 -> 35 | C82: =Soal!E79 -> SWITCH OF RIGHT | E82: =Soal!K79 -> pcs | F82: =Soal!H79 -> China | G82: =Soal!I79 -> Tianjin | H82: =Soal!M79 -> 0 | I82: =Soal!J79 -> 1 | J82: =Soal!L79 -> 222417.26 | K82: =(H82/100)*I82*J82 -> 0 | L82: =(1-(H82/100))*I82*J82 -> 222417.26 | M82: =SUM(K82:L82) -> 222417.26
A83: =Soal!C80 -> 36 | C83: =Soal!E80 -> LOCK SET | E83: =Soal!K80 -> pcs | F83: =Soal!H80 -> China | G83: =Soal!I80 -> Tianjin | H83: =Soal!M80 -> 0 | I83: =Soal!J80 -> 1 | J83: =Soal!L80 -> 194048.61 | K83: =(H83/100)*I83*J83 -> 0 | L83: =(1-(H83/100))*I83*J83 -> 194048.61 | M83: =SUM(K83:L83) -> 194048.61
K84: =(H84/100)*I84*J84 -> 0 | L84: =(1-(H84/100))*I84*J84 -> 0 | M84: =SUM(K84:L84) -> 0
K85: =(H85/100)*I85*J85 -> 0 | L85: =(1-(H85/100))*I85*J85 -> 0 | M85: =SUM(K85:L85) -> 0
C86: TOTAL | K86: =SUM(K18:K85) -> 2577500 | L86: =SUM(L18:L85) -> 12277779 | M86: =SUM(M18:M85) -> 14855279 | N86: Total
A87: 1 | B87: Pada Form ini diisikan nama-nama material yang digunakan sebagai bahan baku untuk membuat produk
A88: 2 | B88: Satuan Mata Uang yang digunakan dalam perhitungan TKDN disesuaikan dengan Satuan Mata Uang yang digunakan oleh Perusahaan

Sheet I, II. Manufakturing R2-R3
I2: Self Assessment
B4: Formulir 1.1. : TKDN Untuk Manufaktur
B6: Perusahaan | F6: : | G6: ='Form 1.1'!D6 -> PT. Molis Maju Bersama Indonesia
B7: Alamat | F7: : | G7: =Soal!F6 -> : Jl. Gatot Subroto No 8 Jakarta
B8: Merk | F8: : | G8: =Soal!F8 -> : MOLI
B9: Jenis Kendaraan | F9: : | G9: =Soal!F7 -> : Sepeda Motor Listrik
B10: Negara Asal Merek | F10: : | G10: Indonesia
B11: Tipe Produk | F11: : | G11: =Soal!F9 -> : G1
B13: NO. | C13: KELOMPOK KOMPONEN | E13: BOBOT (%) | G13: TKDN | H13: PENILAIAN KDN/KLN BERDASARKAN BIAYA PRODUKSI
E14: 2020-2029 | F14: 2030-dst | H14: BIAYA PRODUKSI | I14: VERIFIKASI
I15: KDN | J15: KLN
B16: I | C16: Manufaktur Komponen Utama | E16: =E17+E45+E51 -> 0.5 | F16: 0.6 | G16: =G17+G45+G51 -> 0.17687061 | H16: =I16+J16 -> 11281933 | I16: =I17+I45+I51 -> 2577500 | J16: =J17+J45+J51 -> 8704433.4
B17: 1. | C17: Rangka dan atau body | E17: 0.05 | F17: 0.05 | G17: =(I17/H17)*E17 -> 0 | H17: =SUM(H33:H44) -> 1499364.5 | I17: =SUM(I18:I44) -> 0 | J17: =SUM(J18:J44) -> 3666659.2
D18: ='Form 1.1'!C20 -> Main frame | I18: =G18*H18 -> 0 | J18: =(100%-G18)*H18 -> 0
C19: ='Form 1.1'!A21 -> 1 | D19: ='Form 1.1'!C21 -> THE FRONT PIPE PART | G19: ='Form 1.1'!H21 -> 0 | H19: ='Form 1.1'!M21 -> 605227.13 | I19: =G19*H19 -> 0 | J19: =(100%-G19)*H19 -> 605227.13
C20: ='Form 1.1'!A22 -> 2 | D20: ='Form 1.1'!C22 -> THE REAR SWING PART | G20: ='Form 1.1'!H22 -> 0 | H20: ='Form 1.1'!M22 -> 259797.12 | I20: =G20*H20 -> 0 | J20: =(100%-G20)*H20 -> 259797.12
D21: ='Form 1.1'!C23 -> Bracket | I21: =G21*H21 -> 0 | J21: =(100%-G21)*H21 -> 0
C22: ='Form 1.1'!A24 -> 3 | D22: ='Form 1.1'!C24 -> FRONT LICENSE PLATE BRACKET | G22: ='Form 1.1'!H24 -> 0 | H22: ='Form 1.1'!M24 -> 168016.2 | I22: =G22*H22 -> 0 | J22: =(100%-G22)*H22 -> 168016.2
C23: ='Form 1.1'!A25 -> 4 | D23: ='Form 1.1'!C25 -> MOUNTING BRACKET | G23: ='Form 1.1'!H25 -> 0 | H23: ='Form 1.1'!M25 -> 168183.08 | I23: =G23*H23 -> 0 | J23: =(100%-G23)*H23 -> 168183.08
D24: ='Form 1.1'!C26 -> Side/main stand | I24: =G24*H24 -> 0 | J24: =(100%-G24)*H24 -> 0
C25: ='Form 1.1'!A27 -> 5 | D25: ='Form 1.1'!C27 -> SIDE STAND PART | G25: ='Form 1.1'!H27 -> 0 | H25: ='Form 1.1'!M27 -> 180364.91 | I25: =G25*H25 -> 0 | J25: =(100%-G25)*H25 -> 180364.91
D26: ='Form 1.1'!C28 -> Rear/front fender | I26: =G26*H26 -> 0 | J26: =(100%-G26)*H26 -> 0
C27: ='Form 1.1'!A29 -> 6 | D27: ='Form 1.1'!C29 -> REAR FENDER ON THE REAR SWING PART OF FRAME | G27: ='Form 1.1'!H29 -> 0 | H27: ='Form 1.1'!M29 -> 173022.44 | I27: =G27*H27 -> 0 | J27: =(100%-G27)*H27 -> 173022.44
C28: ='Form 1.1'!A30 -> 7 | D28: ='Form 1.1'!C30 -> FRONT REAR FENDER | G28: ='Form 1.1'!H30 -> 0 | H28: ='Form 1.1'!M30 -> 167014.96 | I28: =G28*H28 -> 0 | J28: =(100%-G28)*H28 -> 167014.96
D29: ='Form 1.1'!C31 -> Seat Assy | I29: =G29*H29 -> 0 | J29: =(100%-G29)*H29 -> 0
C30: ='Form 1.1'!A32 -> 8 | D30: ='Form 1.1'!C32 -> SEAT ASSY | G30: ='Form 1.1'!H32 -> 0 | H30: ='Form 1.1'!M32 -> 272646.45 | I30: =G30*H30 -> 0 | J30: =(100%-G30)*H30 -> 272646.45
D31: ='Form 1.1'!C33 -> Spion | I31: =G31*H31 -> 0 | J31: =(100%-G31)*H31 -> 0
C32: ='Form 1.1'!A34 -> 9 | D32: ='Form 1.1'!C34 -> SPION | G32: ='Form 1.1'!H34 -> 0 | H32: ='Form 1.1'!M34 -> 173022.44 | I32: =G32*H32 -> 0 | J32: =(100%-G32)*H32 -> 173022.44
D33: ='Form 1.1'!C35 -> Stepbar | I33: =G33*H33 -> 0 | J33: =(100%-G33)*H33 -> 0
C34: ='Form 1.1'!A36 -> 10 | D34: ='Form 1.1'!C36 -> FOOTPLATE | G34: ='Form 1.1'!H36 -> 0 | H34: ='Form 1.1'!M36 -> 173022.44 | I34: =G34*H34 -> 0 | J34: =(100%-G34)*H34 -> 173022.44
C35: ='Form 1.1'!A37 -> 11 | D35: ='Form 1.1'!C37 -> COVER ON THE FOOTPLATE | G35: ='Form 1.1'!H37 -> 0 | H35: ='Form 1.1'!M37 -> 173022.44 | I35: =G35*H35 -> 0 | J35: =(100%-G35)*H35 -> 173022.44
D36: ='Form 1.1'!C38 -> Cover Plastic Set | I36: =G36*H36 -> 0 | J36: =(100%-G36)*H36 -> 0
C37: ='Form 1.1'!A39 -> 12 | D37: ='Form 1.1'!C39 -> THE FRONT COVER | G37: ='Form 1.1'!H39 -> 0 | H37: ='Form 1.1'!M39 -> 182033.65 | I37: =G37*H37 -> 0 | J37: =(100%-G37)*H37 -> 182033.65
C38: ='Form 1.1'!A40 -> 13 | D38: ='Form 1.1'!C40 -> FRONT SHIELD | G38: ='Form 1.1'!H40 -> 0 | H38: ='Form 1.1'!M40 -> 162877.1 | I38: =G38*H38 -> 0 | J38: =(100%-G38)*H38 -> 162877.1
C39: ='Form 1.1'!A41 -> 14 | D39: ='Form 1.1'!C41 -> THE FIXED PLATE FOR SCREW | G39: ='Form 1.1'!H41 -> 0 | H39: ='Form 1.1'!M41 -> 163343.72 | I39: =G39*H39 -> 0 | J39: =(100%-G39)*H39 -> 163343.72
C40: ='Form 1.1'!A42 -> 15 | D40: ='Form 1.1'!C42 -> BOLT M6X12 | G40: ='Form 1.1'!H42 -> 0 | H40: ='Form 1.1'!M42 -> 162877.1 | I40: =G40*H40 -> 0 | J40: =(100%-G40)*H40 -> 162877.1
C41: ='Form 1.1'!A43 -> 16 | D41: ='Form 1.1'!C43 -> BOLT M6X16 | G41: ='Form 1.1'!H43 -> 0 | H41: ='Form 1.1'!M43 -> 169017.45 | I41: =G41*H41 -> 0 | J41: =(100%-G41)*H41 -> 169017.45
C42: ='Form 1.1'!A44 -> 17 | D42: ='Form 1.1'!C44 -> WASHER | G42: ='Form 1.1'!H44 -> 0 | H42: ='Form 1.1'!M44 -> 155166.87 | I42: =G42*H42 -> 0 | J42: =(100%-G42)*H42 -> 155166.87
D43: ='Form 1.1'!C45 -> Reflex Reflector | H43: ='Form 1.1'!M45 -> 0 | I43: =G43*H43 -> 0 | J43: =(100%-G43)*H43 -> 0
C44: ='Form 1.1'!A46 -> 18 | D44: ='Form 1.1'!C46 -> REFLECTOR | G44: ='Form 1.1'!H46 -> 0 | H44: ='Form 1.1'!M46 -> 158003.74 | I44: =G44*H44 -> 0 | J44: =(100%-G44)*H44 -> 158003.74
B45: 2. | C45: Battery | E45: 0.4 | F45: 0.5 | G45: =(I45/H45)*E45 -> 0.17687061 | H45: =SUM(H46:H50) -> 5829119.9 | I45: =SUM(I46:I50) -> 2577500 | J45: =SUM(J46:J50) -> 2972298.5
D46: ='Form 1.1'!C48 -> Baterai | H46: ='Form 1.1'!M48 -> 0 | I46: =G46*H46 -> 0 | J46: =(100%-G46)*H46 -> 0
C47: ='Form 1.1'!A49 -> 19 | D47: ='Form 1.1'!C49 -> 60V20AH CHARGER | G47: ='Form 1.1'!H49/100 -> 0 | H47: ='Form 1.1'!M49 -> 394798.51 | I47: =G47*H47 -> 0 | J47: =(100%-G47)*H47 -> 394798.51
C48: ='Form 1.1'!A50 -> 20 | D48: ='Form 1.1'!C50 -> LITHIUM BATTERY ASSY. | G48: ='Form 1.1'!H50/100 -> 0.5 | H48: ='Form 1.1'!M50 -> 5155000 | I48: =G48*H48 -> 2577500 | J48: =(100%-G48)*H48 -> 2577500
D49: ='Form 1.1'!C51 -> Kabel Kelistrikan | H49: ='Form 1.1'!M51 -> 0 | I49: =G49*H49 -> 0 | J49: =(100%-G49)*H49 -> 0
C50: ='Form 1.1'!A52 -> 21 | D50: ='Form 1.1'!C52 -> WIRING HARNESS | G50: ='Form 1.1'!H52/100 -> 0 | H50: ='Form 1.1'!M52 -> 279321.43
B51: 3. | C51: Drive Train, PCU | E51: 0.05 | F51: 0.05 | G51: =(I51/H51)*E51 -> 0 | H51: =SUM(H52:H54) -> 2065475.7 | I51: =SUM(I52:I54) -> 0 | J51: =SUM(J52:J54) -> 2065475.7
D52: ='Form 1.1'!C54 -> Kontroler/ECU/PCU | I52: =G52*H52 -> 0 | J52: =(100%-G52)*H52 -> 0
C53: ='Form 1.1'!A55 -> 22 | D53: ='Form 1.1'!C55 -> ENGINE RIM BLDC | G53: ='Form 1.1'!H55 -> 0 | H53: ='Form 1.1'!M55 -> 1543185.1 | I53: =G53*H53 -> 0 | J53: =(100%-G53)*H53 -> 1543185.1
C54: ='Form 1.1'!A56 -> 23 | D54: ='Form 1.1'!C56 -> CONTROLLER | G54: ='Form 1.1'!H56 -> 0 | H54: ='Form 1.1'!M56 -> 522290.55 | I54: =G54*H54 -> 0 | J54: =(100%-G54)*H54 -> 522290.55
B55: II | C55: Manufaktur Komponen Pendukung | E55: =E56+E60+E64+E68+E77 -> 0.1 | F55: =F56+F60+F64+F68+F77 -> 0.1 | G55: =G56+G60+G64+G68+G77 -> 0 | H55: =I55+J55 -> 3294024.4 | I55: =I56+I60+I64+I68+I77 -> 0 | J55: =J56+J60+J64+J68+J77 -> 3294024.4
B56: 1. | C56: Sistem Setir (Steering system) | E56: 0.02 | F56: 0.02 | G56: =(I56/H56)*E56 -> 0 | H56: =SUM(H57:H59) -> 395940.32 | I56: =SUM(I57:I59) -> 0 | J56: =SUM(J57:J59) -> 395940.32
D57: ='Form 1.1'!C59 -> Handle assy steering system
D58: ='Form 1.1'!C60 -> HANDLE GRIP , LH | G58: ='Form 1.1'!H60 -> 0 | H58: ='Form 1.1'!M60 -> 173523.06 | I58: =G58*H58 -> 0 | J58: =(100%-G58)*H58 -> 173523.06
D59: ='Form 1.1'!C61 -> SWITCH OF RIGHT | G59: ='Form 1.1'!H61 -> 0 | H59: ='Form 1.1'!M61 -> 222417.26 | I59: =G59*H59 -> 0 | J59: =(100%-G59)*H59 -> 222417.26
B60: 2. | C60: Sistem Pengereman (Brake System) | E60: 0.02 | F60: 0.02 | G60: =(I60/H60)*F60 -> 0 | H60: =SUM(H61:H63) -> 571492.18 | I60: =SUM(I61:I63) -> 0 | J60: =SUM(J61:J63) -> 571492.18
D61: ='Form 1.1'!C68 -> Disc brake assy | I61: =G61*H61 -> 0 | J61: =(100%-G61)*H61 -> 0
D62: ='Form 1.1'!C69 -> FRONT DISC BRAKE ASSY | G62: ='Form 1.1'!H69 -> 0 | H62: ='Form 1.1'!M69 -> 335057.48 | I62: =G62*H62 -> 0 | J62: =(100%-G62)*H62 -> 335057.48
D63: ='Form 1.1'!C70 -> DISC BRAKE DISC FR | G63: ='Form 1.1'!H70 -> 0 | H63: ='Form 1.1'!M70 -> 236434.71 | I63: =G63*H63 -> 0 | J63: =(100%-G63)*H63 -> 236434.71
B64: 3. | C64: Sistem Roda dan Transmisi | E64: 0.02 | F64: 0.02 | G64: =(I64/H64)*E64 -> 0 | H64: =SUM(H65:H67) -> 900000 | I64: =SUM(I65:I67) -> 0 | J64: =SUM(J65:J67) -> 900000
D65: ='Form 1.1'!C72 -> Wheels & Transmission | H65: ='Form 1.1'!M72 -> 0 | I65: =G65*H65 -> 0 | J65: =(100%-G65)*H65 -> 0
D66: ='Form 1.1'!C73 -> FRONT RIM | G66: ='Form 1.1'!H73 -> 0 | H66: ='Form 1.1'!M73 -> 300000 | I66: =G66*H66 -> 0 | J66: =(100%-G66)*H66 -> 300000
D67: ='Form 1.1'!C74 -> TIRE | G67: ='Form 1.1'!H74 -> 0 | H67: ='Form 1.1'!M74 -> 600000 | I67: =G67*H67 -> 0 | J67: =(100%-G67)*H67 -> 600000
B68: 4. | C68: Sistem Elektronik | E68: 0.02 | F68: 0.02 | G68: =(I68/H68)*E68 -> 0 | H68: =SUM(H69:H76) -> 975916.78 | I68: =SUM(I69:I76) -> 0 | J68: =SUM(J69:J76) -> 975916.78
D69: ='Form 1.1'!C76 -> Speedometer assy comb | I69: =G69*H69 -> 0 | J69: =(100%-G69)*H69 -> 0
D70: ='Form 1.1'!C77 -> LED METER | G70: ='Form 1.1'!H77 -> 0 | H70: ='Form 1.1'!M77 -> 230260.35 | I70: =G70*H70 -> 0 | J70: =(100%-G70)*H70 -> 230260.35
D71: ='Form 1.1'!C78 -> Head lamp | I71: =G71*H71 -> 0 | J71: =(100%-G71)*H71 -> 0
D72: ='Form 1.1'!C79 -> HEAD LAMP SHADE | G72: ='Form 1.1'!H79 -> 0 | H72: ='Form 1.1'!M79 -> 161174.35 | I72: =G72*H72 -> 0 | J72: =(100%-G72)*H72 -> 161174.35
D73: ='Form 1.1'!C80 -> Horn | I73: =G73*H73 -> 0 | J73: =(100%-G73)*H73 -> 0
D74: ='Form 1.1'!C81 -> HORN | G74: ='Form 1.1'!H81 -> 0 | H74: ='Form 1.1'!M81 -> 168016.2 | I74: =G74*H74 -> 0 | J74: =(100%-G74)*H74 -> 168016.2
D75: ='Form 1.1'!C82 -> SWITCH OF RIGHT | G75: ='Form 1.1'!H82 -> 0 | H75: ='Form 1.1'!M82 -> 222417.26 | I75: =G75*H75 -> 0 | J75: =(100%-G75)*H75 -> 222417.26
D76: ='Form 1.1'!C83 -> LOCK SET | G76: ='Form 1.1'!H83 -> 0 | H76: ='Form 1.1'!M83 -> 194048.61 | I76: =G76*H76 -> 0 | J76: =(100%-G76)*H76 -> 194048.61
B77: 5. | C77: Suspensi | E77: 0.02 | F77: 0.02 | G77: =(I77/H77)*E77 -> 0 | H77: =SUM(H78:H82) -> 450675.12 | I77: =SUM(I78:I82) -> 0 | J77: =SUM(J78:J82) -> 450675.12
D78: ='Form 1.1'!C63 -> Suspensi Depan | G78: ='Form 1.1'!H63 -> 0 | H78: ='Form 1.1'!M63 -> 0 | I78: =G78*H78 -> 0 | J78: =(100%-G78)*H78 -> 0
D79: ='Form 1.1'!C64 -> HANDLEBAR | G79: ='Form 1.1'!H64 -> 0 | H79: ='Form 1.1'!M64 -> 197552.97 | I79: =G79*H79 -> 0 | J79: =(100%-G79)*H79 -> 197552.97
D80: ='Form 1.1'!C65 -> Suspensi Belakang | G80: ='Form 1.1'!H65 -> 0 | H80: ='Form 1.1'!M65 -> 0 | I80: =G80*H80 -> 0 | J80: =(100%-G80)*H80 -> 0
D81: ='Form 1.1'!C66 -> REAR SHOCK | G81: ='Form 1.1'!H66 -> 0 | H81: ='Form 1.1'!M66 -> 253122.15 | I81: =G81*H81 -> 0 | J81: =(100%-G81)*H81 -> 253122.15
D82: ='Form 1.1'!C67 -> Sistem Pengereman | G82: ='Form 1.1'!H67 -> 0 | H82: ='Form 1.1'!M67 -> 0 | I82: =G82*H82 -> 0 | J82: =(100%-G82)*H82 -> 0

Sheet III. Perakitan
H2: =REKAPITULASI!$E$2 -> SELF ASSESSMENT
B4: Formulir 1.3. : TKDN Untuk Perakitan
B6: Perusahaan | E6: =REKAPITULASI!D6 -> PT. Molis Maju Bersama Indonesia
B7: Alamat | E7: =REKAPITULASI!D7 -> Jl. Gatot Subroto No 8 Jakarta
B8: Merk | E8: =REKAPITULASI!D8 -> MOLI
B9: Jenis Produk | E9: =REKAPITULASI!D9 -> Sepeda Motor Listrik
B10: Tipe Produk | E10: =REKAPITULASI!D11 -> G1
B11: Standar
B12: URAIAN | F12: TKDN | H12: Kriteria | J12: Nilai TKDN
F13: 2024-2029 (Bobot 30%) | G13: 2030 - dst (Bobot 20%) | H13: Ada | I13: Tidak Ada
B14: I | C14: Tenaga Kerja Langsung
C15: Jumlah Tenaga kerja dalam negeri > 80% | F15: 0.15 | G15: 0.1 | H15: ü | J15: =IF(H15="ü", F15, IF(I15="ü",0%)) -> 0.15
C16: Jumlah Tenaga kerja dalam negeri 50%-80% | F16: 0.1 | G16: 0.05 | I16: ü | J16: =IF(H16="ü", F16, IF(I16="ü",0%)) -> 0
C17: Jumlah Tenaga kerja dalam negeri < 50% | F17: 0 | G17: 0 | I17: ü | J17: =IF(H17="ü", F17, IF(I17="ü",0%)) -> 0
B18: II | C18: Alat Kerja
C19: Penyambungan rangka, body dan /atau chasis | F19: 0.0375 | G19: 0.025 | H19: ü | J19: =IF(H19="ü", F19, IF(I19="ü",0%)) -> 0.0375
C20: Pengecatan | F20: 0.0375 | G20: 0.025 | I20: ü | J20: =IF(H20="ü", F20, IF(I20="ü",0%)) -> 0
C21: Perakitan komponen utama & pendukung jadi kendaraan | F21: 0.0375 | G21: 0.025 | H21: ü | J21: =IF(H21="ü", F21, IF(I21="ü",0%)) -> 0.0375
C22: Pengujian dan Pengendalian Mutu | F22: 0.0375 | G22: 0.025 | H22: ü | J22: =IF(H22="ü", F22, IF(I22="ü",0%)) -> 0.0375
B23: Total Nilai TKDN Perakitan | J23: =SUM(J14:J22) -> 0.2625
B25: Capaian nilai TKDN diatas dinyatakan sendiri oleh :
B26: =REKAPITULASI!$B$22 -> PT. Molis Maju Bersama Indonesia
B27: Seluruh dokumen yang dinyatakan dalam form TKDN dapat dipertanggungjawabkan sesuai dengan ketentuan perhitungan
B28: TKDN Kendaraan Berbasis Listrik
B30: =REKAPITULASI!$B$26 -> Jakarta, dd mm yyyy
B31: Dinyatakan Oleh,
B34: Materai 10.000
B36: =REKAPITULASI!$B$32 -> isi 'Nama
B37: =REKAPITULASI!$B$33 -> isi ' jabatan

Sheet IV.a. Pengembangan Aktivitas
H2: =REKAPITULASI!$E$2 -> SELF ASSESSMENT
B4: Aspek IV. : TKDN Untuk Pengembangan Berbasis Aktifitas
B6: Perusahaan | E6: =REKAPITULASI!D6 -> PT. Molis Maju Bersama Indonesia
B7: Alamat | E7: =REKAPITULASI!D7 -> Jl. Gatot Subroto No 8 Jakarta
B8: Merk | E8: =REKAPITULASI!D8 -> MOLI
B9: Jenis Produk | E9: =REKAPITULASI!D9 -> Sepeda Motor Listrik
B10: Tipe Produk | E10: =REKAPITULASI!D11 -> G1
B11: Standar | E11: ='III. Perakitan'!E11 -> 0
B12: KOMPONEN | F12: PRESENTASE (TKDN) | G12: KEPEMILIKAN SAHAM | I12: PORSI NILAI (Bobot) | J12: NILAI TKDN
G13: Dimiliki | H13: Bobot
B14: (I) | C14: (II) | F14: (III) | G14: (IV) | I14: (V) | J14: (VI)
B15: I | C15: Penelitian Pasar (Market Research) | F15: 1 | G15: DN | H15: 0 | I15: 0.05 | J15: =F15*H15*I15*10% -> 0
B16: II | C16: Perencanaan Produk (product Planning) | F16: 1 | G16: DN | H16: 0 | I16: 0.15 | J16: =F16*H16*I16*10% -> 0
B17: III | C17: Perencanaan Teknis (Design Engineering) | F17: 1 | G17: LN | H17: 0 | I17: 0.2 | J17: =F17*H17*I17*10% -> 0
B18: IV | C18: Model Kendaraan (Prototyping) | F18: 1 | G18: LN | H18: 0 | I18: 0.2 | J18: =F18*H18*I18*10% -> 0
B19: V | C19: Pengujian Kendaraan (testing) | F19: 1 | G19: DN | H19: 1 | I19: 0.2 | J19: =F19*H19*I19*10% -> 0.02
B20: VI | C20: Sertifikasi Kendaraan (Licensing) | F20: 1 | G20: DN | H20: 1 | I20: 0.2 | J20: =F20*H20*I20*10% -> 0.02
B21: TOTAL NILAI TKDN PENGEMBANGAN Berbasis Aktivitas | J21: =SUM(J15:J20) -> 0.04
B23: Capaian nilai TKDN diatas dinyatakan sendiri oleh :
B24: =REKAPITULASI!$B$22 -> PT. Molis Maju Bersama Indonesia
B25: Seluruh dokumen yang dinyatakan dalam form TKDN dapat dipertanggungjawabkan sesuai dengan ketentuan perhitungan
B26: TKDN Kendaraan Berbasis Listrik
B28: =REKAPITULASI!$B$26 -> Jakarta, dd mm yyyy
B29: Dinyatakan Oleh,
B31: Materai 10.000
B34: =REKAPITULASI!$B$32 -> isi 'Nama
B35: =REKAPITULASI!$B$33 -> isi ' jabatan
B37: UNSUR KEGIATAN
B38: 1 | C38: Memiliki Dokumen dalam bahasa indonesia dan/atau inggris
B39: 2 | C39: Memiliki divisi atau bagian yang bergerak dalam bidang penelitian dan pengembangan dalam struktur organisasi Perusahaan
B40: 3 | C40: Memiliki tenaga kerja/peneliti yang memiliki tugas pokok dan fungsi hanya pada divisi atau bagian
B42: Perhitungan Nilai TKDN terhadap Pemenuhan Unsur Kegiatan
B43: No | C43: Pemenuhan Unsur Kegiatan | F43: TKDN
B44: 1 | C44: Dokumen memenuhi semua unsur kegiatan | F44: 1
B45: 2 | C45: Dokumen memenuhi 2 (dua) unsur kegiatan | F45: 0.8
B46: 3 | C46: Dokumen memenuhi 1 (satu) unsur kegiatan | F46: 0.5
B47: 4 | C47: Tidak memiliki dokumen pendukung untuk seluruh kegiatan | F47: 0
B49: UNSUR KEPEMILIKAN SAHAM
B50: No | C50: Kepemilikan | F50: Bobot
B51: 1 | C51: Dimiliki oleh penyedia jasa dalam negeri | F51: 1
B52: 2 | C52: Dimiliki bersama penyedia jasa antara perusahaan dalam negeri dan perusahaan luar negeri | F52: 1
B53: 3 | C53: Dimiliki oleh penyedia jasa luar negeri | F53: 0.25
